Workbook

Sheet Inhoud
A2: OVERZICHT BAREMA'S P.C. 331 KO
A4: DATUM | B4: 46235
A6: INDEX | B6: =ROUND(100%*1.02^11,4) -> 1.2434
A8: L4 | B8: Logistiek personeel klasse 4
A9: L3 | B9: Logistiek personeel klasse 3
A10: L2 | B10: Logistiek personeel klasse 2
A11: A3 | B11: Administratief personeel klasse 3
A12: A2 | B12: Administratief personeel klasse 2
A13: A1 | B13: Administratief + logistiek personeel klasse 1
A14: B3 | B14: Begeleidend personeel klasse 3
A15: B2B | B15: Begeleidend personeel klasse 2B
A16: B2A | B16: Begeleidend personeel klasse 2A
A17: B1C | B17: Begeleidend personeel klasse 1
A18: B1B | B18: Diensthoofd in de erkende kinderdagverblijven
A19: MV2 | B19: Gebrevetteerde verpleegkundige
... A26: GEW | B26: Gewaarborgd inkomen

Sheet L4
A1: L4 | B1: LOGISTIEK PERSONEEL KLASSE 4
D2: =Inhoud!B4 -> 46235
C3: coëfficiënt: | D3: =Inhoud!B6 -> 1.2434
B4: JAARLOON | D4: MAANDLOON | E4: UURLOON
B5: 1 | E5: 38u | H5: 40u
B6: basis 01/01/2022 | C6: =D2 -> 46235 | D6: =C6 -> 46235 | E6: 1 | F6: 0.5 | G6: 0.2
A7: 0 | B7: 22591.66 | C7: =B7*$D$3 -> 28090.47 | D7: =B7/12*$D$3 -> 2340.8725 | E7: =C7/1976 -> 14.215825 | F7: =E7/2 -> 7.1079125 | G7: =E7/5 -> 2.843165 | H7: =C7/2080 -> 13.505034
A8: =A7+1 -> 1 | B8: 22873.33 | C8: =B8*$D$3 -> 28440.699 | D8: =B8/12*$D$3 -> 2370.0582 | E8: =C8/1976 -> 14.393066 | F8: =E8/2 -> 7.196533 | G8: =E8/5 -> 2.8786132 | H8: =C8/2080 -> 13.673413
A9: =A8+1 -> 2 | B9: 23154.51 | C9: =B9*$D$3 -> 28790.318 | D9: =B9/12*$D$3 -> 2399.1931 | E9: =C9/1976 -> 14.569999 | F9: =E9/2 -> 7.2849994 | G9: =E9/5 -> 2.9139998 | H9: =C9/2080 -> 13.841499
A10: =A9+1 -> 3 | B10: 23436.17 | C10: =B10*$D$3 -> 29140.534 | D10: =B10/12*$D$3 -> 2428.3778 | E10: =C10/1976 -> 14.747234 | F10: =E10/2 -> 7.3736168 | G10: =E10/5 -> 2.9494467 | H10: =C10/2080 -> 14.009872
A11: =A10+1 -> 4 | B11: 23767.23 | C11: =B11*$D$3 -> 29552.174 | D11: =B11/12*$D$3 -> 2462.6811 | E11: =C11/1976 -> 14.955554 | F11: =E11/2 -> 7.4777768 | G11: =E11/5 -> 2.9911107 | H11: =C11/2080 -> 14.207776
A12: =A11+1 -> 5 | B12: 24011.59 | C12: =B12*$D$3 -> 29856.011 | D12: =B12/12*$D$3 -> 2488.0009 | E12: =C12/1976 -> 15.109317 | F12: =E12/2 -> 7.5546587 | G12: =E12/5 -> 3.0218635 | H12: =C12/2080 -> 14.353851
A13: =A12+1 -> 6 | B13: 24895.68 | C13: =B13*$D$3 -> 30955.289 | D13: =B13/12*$D$3 -> 2579.6074 | E13: =C13/1976 -> 15.665632 | F13: =E13/2 -> 7.8328159 | G13: =E13/5 -> 3.1331264 | H13: =C13/2080 -> 14.88235
A14: =A13+1 -> 7 | B14: 25059.42 | C14: =B14*$D$3 -> 31158.883 | D14: =B14/12*$D$3 -> 2596.5736 | E14: =C14/1976 -> 15.768665 | F14: =E14/2 -> 7.8843327 | G14: =E14/5 -> 3.1537331 | H14: =C14/2080 -> 14.980232
A15: =A14+1 -> 8 | B15: 26024.18 | C15: =B15*$D$3 -> 32358.465 | D15: =B15/12*$D$3 -> 2696.5388 | E15: =C15/1976 -> 16.375742 | F15: =E15/2 -> 8.1878708 | G15: =E15/5 -> 3.2751483 | H15: =C15/2080 -> 15.556955
A16: =A15+1 -> 9 | B16: 26107.24 | C16: =B16*$D$3 -> 32461.742 | D16: =B16/12*$D$3 -> 2705.1452 | E16: =C16/1976 -> 16.428007 | F16: =E16/2 -> 8.2140036 | G16: =E16/5 -> 3.2856014 | H16: =C16/2080 -> 15.606607
A17: =A16+1 -> 10 | B17: 27152.69 | C17: =B17*$D$3 -> 33761.655 | D17: =B17/12*$D$3 -> 2813.4712 | E17: =C17/1976 -> 17.085858 | F17: =E17/2 -> 8.5429288 | G17: =E17/5 -> 3.4171715 | H17: =C17/2080 -> 16.231565
A18: =A17+1 -> 11 | B18: 27155.59 | C18: =B18*$D$3 -> 33765.261 | D18: =B18/12*$D$3 -> 2813.7717 | E18: =C18/1976 -> 17.087682 | F18: =E18/2 -> 8.5438412 | G18: =E18/5 -> 3.4175365 | H18: =C18/2080 -> 16.233298
A19: =A18+1 -> 12 | B19: 28281.18 | C19: =B19*$D$3 -> 35164.819 | D19: =B19/12*$D$3 -> 2930.4016 | E19: =C19/1976 -> 17.795961 | F19: =E19/2 -> 8.8979806 | G19: =E19/5 -> 3.5591922 | H19: =C19/2080 -> 16.906163
... A42: =A41+1 -> 35 | B42: 35369.31 | C42: =B42*$D$3 -> 43978.2 | D42: =B42/12*$D$3 -> 3664.85 | E42: =C42/1976 -> 22.256174 | F42: =E42/2 -> 11.128087 | G42: =E42/5 -> 4.4512348 | H42: =C42/2080 -> 21.143365
B43: Jaarloon is lager dan sectoraal minimumloon van 23.133,23 euro.

Sheet L3
A1: L3 | B1: LOGISTIEK PERSONEEL KLASSE 3
D2: =Inhoud!B4 -> 46235
C3: coëfficiënt: | D3: =Inhoud!B6 -> 1.2434
B4: JAARLOON | D4: MAANDLOON | E4: UURLOON
B5: 1 | E5: 38u | H5: 40u
B6: ='L4'!$B$6 -> basis 01/01/2022 | C6: =D2 -> 46235 | D6: =C6 -> 46235 | E6: 1 | F6: 0.5 | G6: 0.2
A7: 0 | B7: 23642.75 | C7: =B7*$D$3 -> 29397.395 | D7: =B7/12*$D$3 -> 2449.7829 | E7: =C7/1976 -> 14.877224 | F7: =E7/2 -> 7.4386122 | G7: =E7/5 -> 2.9754449 | H7: =C7/2080 -> 14.133363
A8: =A7+1 -> 1 | B8: 24549.13 | C8: =B8*$D$3 -> 30524.388 | D8: =B8/12*$D$3 -> 2543.699 | E8: =C8/1976 -> 15.447565 | F8: =E8/2 -> 7.7237824 | G8: =E8/5 -> 3.089513 | H8: =C8/2080 -> 14.675187
A9: =A8+1 -> 2 | B9: 25465.33 | C9: =B9*$D$3 -> 31663.591 | D9: =B9/12*$D$3 -> 2638.6326 | E9: =C9/1976 -> 16.024085 | F9: =E9/2 -> 8.0120423 | G9: =E9/5 -> 3.2048169 | H9: =C9/2080 -> 15.22288
A10: =A9+1 -> 3 | B10: 26381.56 | C10: =B10*$D$3 -> 32802.832 | D10: =B10/12*$D$3 -> 2733.5693 | E10: =C10/1976 -> 16.600623 | F10: =E10/2 -> 8.3003117 | G10: =E10/5 -> 3.3201247 | H10: =C10/2080 -> 15.770592
A11: =A10+1 -> 4 | B11: 27297.76 | C11: =B11*$D$3 -> 33942.035 | D11: =B11/12*$D$3 -> 2828.5029 | E11: =C11/1976 -> 17.177143 | F11: =E11/2 -> 8.5885716 | G11: =E11/5 -> 3.4354286 | H11: =C11/2080 -> 16.318286
A12: =A11+1 -> 5 | B12: 27297.76 | C12: =B12*$D$3 -> 33942.035 | D12: =B12/12*$D$3 -> 2828.5029 | E12: =C12/1976 -> 17.177143 | F12: =E12/2 -> 8.5885716 | G12: =E12/5 -> 3.4354286 | H12: =C12/2080 -> 16.318286
A13: =A12+1 -> 6 | B13: 28603.55 | C13: =B13*$D$3 -> 35565.654 | D13: =B13/12*$D$3 -> 2963.8045 | E13: =C13/1976 -> 17.998813 | F13: =E13/2 -> 8.9994064 | G13: =E13/5 -> 3.5997626 | H13: =C13/2080 -> 17.098872
A14: =A13+1 -> 7 | B14: 28603.55 | C14: =B14*$D$3 -> 35565.654 | D14: =B14/12*$D$3 -> 2963.8045 | E14: =C14/1976 -> 17.998813 | F14: =E14/2 -> 8.9994064 | G14: =E14/5 -> 3.5997626 | H14: =C14/2080 -> 17.098872
A15: =A14+1 -> 8 | B15: 29736.12 | C15: =B15*$D$3 -> 36973.892 | D15: =B15/12*$D$3 -> 3081.1576 | E15: =C15/1976 -> 18.711484 | F15: =E15/2 -> 9.3557418 | G15: =E15/5 -> 3.7422967 | H15: =C15/2080 -> 17.775909
A16: =A15+1 -> 9 | B16: 29736.12 | C16: =B16*$D$3 -> 36973.892 | D16: =B16/12*$D$3 -> 3081.1576 | E16: =C16/1976 -> 18.711484 | F16: =E16/2 -> 9.3557418 | G16: =E16/5 -> 3.7422967 | H16: =C16/2080 -> 17.775909
A17: =A16+1 -> 10 | B17: 30565.13 | C17: =B17*$D$3 -> 38004.683 | D17: =B17/12*$D$3 -> 3167.0569 | E17: =C17/1976 -> 19.233139 | F17: =E17/2 -> 9.6165695 | G17: =E17/5 -> 3.8466278 | H17: =C17/2080 -> 18.271482
A18: =A17+1 -> 11 | B18: 30565.13 | C18: =B18*$D$3 -> 38004.683 | D18: =B18/12*$D$3 -> 3167.0569 | E18: =C18/1976 -> 19.233139 | F18: =E18/2 -> 9.6165695 | G18: =E18/5 -> 3.8466278 | H18: =C18/2080 -> 18.271482
A19: =A18+1 -> 12 | B19: 31870.94 | C19: =B19*$D$3 -> 39628.327 | D19: =B19/12*$D$3 -> 3302.3606 | E19: =C19/1976 -> 20.054821 | F19: =E19/2 -> 10.027411 | G19: =E19/5 -> 4.0109643 | H19: =C19/2080 -> 19.05208
... A42: =A41+1 -> 35 | B42: 40896.3 | C42: =B42*$D$3 -> 50850.459 | D42: =B42/12*$D$3 -> 4237.5383 | E42: =C42/1976 -> 25.734038 | F42: =E42/2 -> 12.867019 | G42: =E42/5 -> 5.1468076 | H42: =C42/2080 -> 24.447336

Sheet L2
A1: L2 | B1: LOGISTIEK PERSONEEL KLASSE 2
D2: =Inhoud!B4 -> 46235
C3: coëfficiënt: | D3: =Inhoud!B6 -> 1.2434
B4: JAARLOON | D4: MAANDLOON | E4: UURLOON
B5: 1 | E5: 38u | H5: 40u
B6: ='L4'!$B$6 -> basis 01/01/2022 | C6: =D2 -> 46235 | D6: =C6 -> 46235 | E6: 1 | F6: 0.5 | G6: 0.2
A7: 0 | B7: 25562.97 | C7: =B7*$D$3 -> 31784.997 | D7: =B7/12*$D$3 -> 2648.7497 | E7: =C7/1976 -> 16.085525 | F7: =E7/2 -> 8.0427624 | G7: =E7/5 -> 3.2171049 | H7: =C7/2080 -> 15.281249
A8: =A7+1 -> 1 | B8: 26558.33 | C8: =B8*$D$3 -> 33022.628 | D8: =B8/12*$D$3 -> 2751.8856 | E8: =C8/1976 -> 16.711856 | F8: =E8/2 -> 8.355928 | G8: =E8/5 -> 3.3423712 | H8: =C8/2080 -> 15.876263
A9: =A8+1 -> 2 | B9: 27553.69 | C9: =B9*$D$3 -> 34260.258 | D9: =B9/12*$D$3 -> 2855.0215 | E9: =C9/1976 -> 17.338187 | F9: =E9/2 -> 8.6690937 | G9: =E9/5 -> 3.4676375 | H9: =C9/2080 -> 16.471278
A10: =A9+1 -> 3 | B10: 28549.06 | C10: =B10*$D$3 -> 35497.901 | D10: =B10/12*$D$3 -> 2958.1584 | E10: =C10/1976 -> 17.964525 | F10: =E10/2 -> 8.9822625 | G10: =E10/5 -> 3.592905 | H10: =C10/2080 -> 17.066299
A11: =A10+1 -> 4 | B11: 29544.42 | C11: =B11*$D$3 -> 36735.532 | D11: =B11/12*$D$3 -> 3061.2943 | E11: =C11/1976 -> 18.590856 | F11: =E11/2 -> 9.2954281 | G11: =E11/5 -> 3.7181712 | H11: =C11/2080 -> 17.661313
A12: =A11+1 -> 5 | B12: 29544.42 | C12: =B12*$D$3 -> 36735.532 | D12: =B12/12*$D$3 -> 3061.2943 | E12: =C12/1976 -> 18.590856 | F12: =E12/2 -> 9.2954281 | G12: =E12/5 -> 3.7181712 | H12: =C12/2080 -> 17.661313
A13: =A12+1 -> 6 | B13: 30313 | C13: =B13*$D$3 -> 37691.184 | D13: =B13/12*$D$3 -> 3140.932 | E13: =C13/1976 -> 19.074486 | F13: =E13/2 -> 9.537243 | G13: =E13/5 -> 3.8148972 | H13: =C13/2080 -> 18.120762
A14: =A13+1 -> 7 | B14: 30313 | C14: =B14*$D$3 -> 37691.184 | D14: =B14/12*$D$3 -> 3140.932 | E14: =C14/1976 -> 19.074486 | F14: =E14/2 -> 9.537243 | G14: =E14/5 -> 3.8148972 | H14: =C14/2080 -> 18.120762
A15: =A14+1 -> 8 | B15: 31731.68 | C15: =B15*$D$3 -> 39455.171 | D15: =B15/12*$D$3 -> 3287.9309 | E15: =C15/1976 -> 19.967192 | F15: =E15/2 -> 9.9835959 | G15: =E15/5 -> 3.9934384 | H15: =C15/2080 -> 18.968832
A16: =A15+1 -> 9 | B16: 31731.68 | C16: =B16*$D$3 -> 39455.171 | D16: =B16/12*$D$3 -> 3287.9309 | E16: =C16/1976 -> 19.967192 | F16: =E16/2 -> 9.9835959 | G16: =E16/5 -> 3.9934384 | H16: =C16/2080 -> 18.968832
A17: =A16+1 -> 10 | B17: 32918.76 | C17: =B17*$D$3 -> 40931.186 | D17: =B17/12*$D$3 -> 3410.9322 | E17: =C17/1976 -> 20.714163 | F17: =E17/2 -> 10.357082 | G17: =E17/5 -> 4.1428326 | H17: =C17/2080 -> 19.678455
A18: =A17+1 -> 11 | B18: 32918.76 | C18: =B18*$D$3 -> 40931.186 | D18: =B18/12*$D$3 -> 3410.9322 | E18: =C18/1976 -> 20.714163 | F18: =E18/2 -> 10.357082 | G18: =E18/5 -> 4.1428326 | H18: =C18/2080 -> 19.678455
A19: =A18+1 -> 12 | B19: 33918.95 | C19: =B19*$D$3 -> 42174.822 | D19: =B19/12*$D$3 -> 3514.5685 | E19: =C19/1976 -> 21.343534 | F19: =E19/2 -> 10.671767 | G19: =E19/5 -> 4.2687067 | H19: =C19/2080 -> 20.276357
... A42: =A41+1 -> 35 | B42: 44363.82 | C42: =B42*$D$3 -> 55161.974 | D42: =B42/12*$D$3 -> 4596.8311 | E42: =C42/1976 -> 27.915979 | F42: =E42/2 -> 13.957989 | G42: =E42/5 -> 5.5831957 | H42: =C42/2080 -> 26.52018

Sheet A3
A1: A3 | B1: ADMINISTRATIEF PERSONEEL KLASSE 3
D2: =Inhoud!B4 -> 46235
C3: coëfficiënt: | D3: =Inhoud!B6 -> 1.2434
B4: JAARLOON | D4: MAANDLOON | E4: UURLOON
B5: 1 | E5: 38u | H5: 40u
B6: ='L4'!$B$6 -> basis 01/01/2022 | C6: =D2 -> 46235 | D6: =C6 -> 46235 | E6: 1 | F6: 0.5 | G6: 0.2
A7: 0 | B7: 23632.95 | C7: =B7*$D$3 -> 29385.21 | D7: =B7/12*$D$3 -> 2448.7675 | E7: =C7/1976 -> 14.871058 | F7: =E7/2 -> 7.4355289 | G7: =E7/5 -> 2.9742115 | H7: =C7/2080 -> 14.127505
A8: =A7+1 -> 1 | B8: 24549.13 | C8: =B8*$D$3 -> 30524.388 | D8: =B8/12*$D$3 -> 2543.699 | E8: =C8/1976 -> 15.447565 | F8: =E8/2 -> 7.7237824 | G8: =E8/5 -> 3.089513 | H8: =C8/2080 -> 14.675187
A9: =A8+1 -> 2 | B9: 25465.33 | C9: =B9*$D$3 -> 31663.591 | D9: =B9/12*$D$3 -> 2638.6326 | E9: =C9/1976 -> 16.024085 | F9: =E9/2 -> 8.0120423 | G9: =E9/5 -> 3.2048169 | H9: =C9/2080 -> 15.22288
A10: =A9+1 -> 3 | B10: 26381.56 | C10: =B10*$D$3 -> 32802.832 | D10: =B10/12*$D$3 -> 2733.5693 | E10: =C10/1976 -> 16.600623 | F10: =E10/2 -> 8.3003117 | G10: =E10/5 -> 3.3201247 | H10: =C10/2080 -> 15.770592
A11: =A10+1 -> 4 | B11: 27297.76 | C11: =B11*$D$3 -> 33942.035 | D11: =B11/12*$D$3 -> 2828.5029 | E11: =C11/1976 -> 17.177143 | F11: =E11/2 -> 8.5885716 | G11: =E11/5 -> 3.4354286 | H11: =C11/2080 -> 16.318286
A12: =A11+1 -> 5 | B12: 27297.76 | C12: =B12*$D$3 -> 33942.035 | D12: =B12/12*$D$3 -> 2828.5029 | E12: =C12/1976 -> 17.177143 | F12: =E12/2 -> 8.5885716 | G12: =E12/5 -> 3.4354286 | H12: =C12/2080 -> 16.318286
A13: =A12+1 -> 6 | B13: 28603.55 | C13: =B13*$D$3 -> 35565.654 | D13: =B13/12*$D$3 -> 2963.8045 | E13: =C13/1976 -> 17.998813 | F13: =E13/2 -> 8.9994064 | G13: =E13/5 -> 3.5997626 | H13: =C13/2080 -> 17.098872
A14: =A13+1 -> 7 | B14: 28603.55 | C14: =B14*$D$3 -> 35565.654 | D14: =B14/12*$D$3 -> 2963.8045 | E14: =C14/1976 -> 17.998813 | F14: =E14/2 -> 8.9994064 | G14: =E14/5 -> 3.5997626 | H14: =C14/2080 -> 17.098872
A15: =A14+1 -> 8 | B15: 29736.12 | C15: =B15*$D$3 -> 36973.892 | D15: =B15/12*$D$3 -> 3081.1576 | E15: =C15/1976 -> 18.711484 | F15: =E15/2 -> 9.3557418 | G15: =E15/5 -> 3.7422967 | H15: =C15/2080 -> 17.775909
A16: =A15+1 -> 9 | B16: 29736.12 | C16: =B16*$D$3 -> 36973.892 | D16: =B16/12*$D$3 -> 3081.1576 | E16: =C16/1976 -> 18.711484 | F16: =E16/2 -> 9.3557418 | G16: =E16/5 -> 3.7422967 | H16: =C16/2080 -> 17.775909
A17: =A16+1 -> 10 | B17: 30565.13 | C17: =B17*$D$3 -> 38004.683 | D17: =B17/12*$D$3 -> 3167.0569 | E17: =C17/1976 -> 19.233139 | F17: =E17/2 -> 9.6165695 | G17: =E17/5 -> 3.8466278 | H17: =C17/2080 -> 18.271482
A18: =A17+1 -> 11 | B18: 30565.13 | C18: =B18*$D$3 -> 38004.683 | D18: =B18/12*$D$3 -> 3167.0569 | E18: =C18/1976 -> 19.233139 | F18: =E18/2 -> 9.6165695 | G18: =E18/5 -> 3.8466278 | H18: =C18/2080 -> 18.271482
A19: =A18+1 -> 12 | B19: 31870.94 | C19: =B19*$D$3 -> 39628.327 | D19: =B19/12*$D$3 -> 3302.3606 | E19: =C19/1976 -> 20.054821 | F19: =E19/2 -> 10.027411 | G19: =E19/5 -> 4.0109643 | H19: =C19/2080 -> 19.05208
... A42: =A41+1 -> 35 | B42: 40896.3 | C42: =B42*$D$3 -> 50850.459 | D42: =B42/12*$D$3 -> 4237.5383 | E42: =C42/1976 -> 25.734038 | F42: =E42/2 -> 12.867019 | G42: =E42/5 -> 5.1468076 | H42: =C42/2080 -> 24.447336

Sheet A2
A1: A2 | B1: ADMINISTRATIEF PERSONEEL KLASSE 2
D2: =Inhoud!B4 -> 46235
C3: coëfficiënt: | D3: =Inhoud!B6 -> 1.2434
B4: JAARLOON | D4: MAANDLOON | E4: UURLOON
B5: 1 | E5: 38u | H5: 40u
B6: ='L4'!$B$6 -> basis 01/01/2022 | C6: =D2 -> 46235 | D6: =C6 -> 46235 | E6: 1 | F6: 0.5 | G6: 0.2
A7: 0 | B7: 25562.97 | C7: =B7*$D$3 -> 31784.997 | D7: =B7/12*$D$3 -> 2648.7497 | E7: =C7/1976 -> 16.085525 | F7: =E7/2 -> 8.0427624 | G7: =E7/5 -> 3.2171049 | H7: =C7/2080 -> 15.281249
A8: =A7+1 -> 1 | B8: 26558.33 | C8: =B8*$D$3 -> 33022.628 | D8: =B8/12*$D$3 -> 2751.8856 | E8: =C8/1976 -> 16.711856 | F8: =E8/2 -> 8.355928 | G8: =E8/5 -> 3.3423712 | H8: =C8/2080 -> 15.876263
A9: =A8+1 -> 2 | B9: 27553.69 | C9: =B9*$D$3 -> 34260.258 | D9: =B9/12*$D$3 -> 2855.0215 | E9: =C9/1976 -> 17.338187 | F9: =E9/2 -> 8.6690937 | G9: =E9/5 -> 3.4676375 | H9: =C9/2080 -> 16.471278
A10: =A9+1 -> 3 | B10: 28549.06 | C10: =B10*$D$3 -> 35497.901 | D10: =B10/12*$D$3 -> 2958.1584 | E10: =C10/1976 -> 17.964525 | F10: =E10/2 -> 8.9822625 | G10: =E10/5 -> 3.592905 | H10: =C10/2080 -> 17.066299
A11: =A10+1 -> 4 | B11: 29544.42 | C11: =B11*$D$3 -> 36735.532 | D11: =B11/12*$D$3 -> 3061.2943 | E11: =C11/1976 -> 18.590856 | F11: =E11/2 -> 9.2954281 | G11: =E11/5 -> 3.7181712 | H11: =C11/2080 -> 17.661313
A12: =A11+1 -> 5 | B12: 29544.42 | C12: =B12*$D$3 -> 36735.532 | D12: =B12/12*$D$3 -> 3061.2943 | E12: =C12/1976 -> 18.590856 | F12: =E12/2 -> 9.2954281 | G12: =E12/5 -> 3.7181712 | H12: =C12/2080 -> 17.661313
A13: =A12+1 -> 6 | B13: 30313 | C13: =B13*$D$3 -> 37691.184 | D13: =B13/12*$D$3 -> 3140.932 | E13: =C13/1976 -> 19.074486 | F13: =E13/2 -> 9.537243 | G13: =E13/5 -> 3.8148972 | H13: =C13/2080 -> 18.120762
A14: =A13+1 -> 7 | B14: 30313 | C14: =B14*$D$3 -> 37691.184 | D14: =B14/12*$D$3 -> 3140.932 | E14: =C14/1976 -> 19.074486 | F14: =E14/2 -> 9.537243 | G14: =E14/5 -> 3.8148972 | H14: =C14/2080 -> 18.120762
A15: =A14+1 -> 8 | B15: 31731.68 | C15: =B15*$D$3 -> 39455.171 | D15: =B15/12*$D$3 -> 3287.9309 | E15: =C15/1976 -> 19.967192 | F15: =E15/2 -> 9.9835959 | G15: =E15/5 -> 3.9934384 | H15: =C15/2080 -> 18.968832
A16: =A15+1 -> 9 | B16: 31731.68 | C16: =B16*$D$3 -> 39455.171 | D16: =B16/12*$D$3 -> 3287.9309 | E16: =C16/1976 -> 19.967192 | F16: =E16/2 -> 9.9835959 | G16: =E16/5 -> 3.9934384 | H16: =C16/2080 -> 18.968832
A17: =A16+1 -> 10 | B17: 32918.76 | C17: =B17*$D$3 -> 40931.186 | D17: =B17/12*$D$3 -> 3410.9322 | E17: =C17/1976 -> 20.714163 | F17: =E17/2 -> 10.357082 | G17: =E17/5 -> 4.1428326 | H17: =C17/2080 -> 19.678455
A18: =A17+1 -> 11 | B18: 32918.76 | C18: =B18*$D$3 -> 40931.186 | D18: =B18/12*$D$3 -> 3410.9322 | E18: =C18/1976 -> 20.714163 | F18: =E18/2 -> 10.357082 | G18: =E18/5 -> 4.1428326 | H18: =C18/2080 -> 19.678455
A19: =A18+1 -> 12 | B19: 33918.95 | C19: =B19*$D$3 -> 42174.822 | D19: =B19/12*$D$3 -> 3514.5685 | E19: =C19/1976 -> 21.343534 | F19: =E19/2 -> 10.671767 | G19: =E19/5 -> 4.2687067 | H19: =C19/2080 -> 20.276357
... A42: =A41+1 -> 35 | B42: 44363.82 | C42: =B42*$D$3 -> 55161.974 | D42: =B42/12*$D$3 -> 4596.8311 | E42: =C42/1976 -> 27.915979 | F42: =E42/2 -> 13.957989 | G42: =E42/5 -> 5.5831957 | H42: =C42/2080 -> 26.52018

Sheet A1
A1: A1 | B1: ADMINISTRATIEF + LOGISTIEK PERSONEEL KLASSE 1
D2: =Inhoud!B4 -> 46235
C3: coëfficiënt: | D3: =Inhoud!B6 -> 1.2434
B4: JAARLOON | D4: MAANDLOON | E4: UURLOON
B5: 1 | E5: 38u | H5: 40u
B6: ='L4'!$B$6 -> basis 01/01/2022 | C6: =D2 -> 46235 | D6: =C6 -> 46235 | E6: 1 | F6: 0.5 | G6: 0.2
A7: 0 | B7: 29736.12 | C7: =B7*$D$3 -> 36973.892 | D7: =B7/12*$D$3 -> 3081.1576 | E7: =C7/1976 -> 18.711484 | F7: =E7/2 -> 9.3557418 | G7: =E7/5 -> 3.7422967 | H7: =C7/2080 -> 17.775909
A8: =A7+1 -> 1 | B8: 29736.12 | C8: =B8*$D$3 -> 36973.892 | D8: =B8/12*$D$3 -> 3081.1576 | E8: =C8/1976 -> 18.711484 | F8: =E8/2 -> 9.3557418 | G8: =E8/5 -> 3.7422967 | H8: =C8/2080 -> 17.775909
A9: =A8+1 -> 2 | B9: 30483.61 | C9: =B9*$D$3 -> 37903.321 | D9: =B9/12*$D$3 -> 3158.6101 | E9: =C9/1976 -> 19.181842 | F9: =E9/2 -> 9.5909212 | G9: =E9/5 -> 3.8363685 | H9: =C9/2080 -> 18.22275
A10: =A9+1 -> 3 | B10: 31614.7 | C10: =B10*$D$3 -> 39309.718 | D10: =B10/12*$D$3 -> 3275.8098 | E10: =C10/1976 -> 19.893582 | F10: =E10/2 -> 9.946791 | G10: =E10/5 -> 3.9787164 | H10: =C10/2080 -> 18.898903
A11: =A10+1 -> 4 | B11: 32745.8 | C11: =B11*$D$3 -> 40716.128 | D11: =B11/12*$D$3 -> 3393.0106 | E11: =C11/1976 -> 20.605328 | F11: =E11/2 -> 10.302664 | G11: =E11/5 -> 4.1210656 | H11: =C11/2080 -> 19.575061
A12: =A11+1 -> 5 | B12: 32745.8 | C12: =B12*$D$3 -> 40716.128 | D12: =B12/12*$D$3 -> 3393.0106 | E12: =C12/1976 -> 20.605328 | F12: =E12/2 -> 10.302664 | G12: =E12/5 -> 4.1210656 | H12: =C12/2080 -> 19.575061
A13: =A12+1 -> 6 | B13: 33707.84 | C13: =B13*$D$3 -> 41912.328 | D13: =B13/12*$D$3 -> 3492.694 | E13: =C13/1976 -> 21.210692 | F13: =E13/2 -> 10.605346 | G13: =E13/5 -> 4.2421385 | H13: =C13/2080 -> 20.150158
A14: =A13+1 -> 7 | B14: 35499.43 | C14: =B14*$D$3 -> 44139.991 | D14: =B14/12*$D$3 -> 3678.3326 | E14: =C14/1976 -> 22.338052 | F14: =E14/2 -> 11.169026 | G14: =E14/5 -> 4.4676105 | H14: =C14/2080 -> 21.22115
A15: =A14+1 -> 8 | B15: 35499.43 | C15: =B15*$D$3 -> 44139.991 | D15: =B15/12*$D$3 -> 3678.3326 | E15: =C15/1976 -> 22.338052 | F15: =E15/2 -> 11.169026 | G15: =E15/5 -> 4.4676105 | H15: =C15/2080 -> 21.22115
A16: =A15+1 -> 9 | B16: 36428.87 | C16: =B16*$D$3 -> 45295.657 | D16: =B16/12*$D$3 -> 3774.6381 | E16: =C16/1976 -> 22.922903 | F16: =E16/2 -> 11.461452 | G16: =E16/5 -> 4.5845807 | H16: =C16/2080 -> 21.776758
A17: =A16+1 -> 10 | B17: 36932.12 | C17: =B17*$D$3 -> 45921.398 | D17: =B17/12*$D$3 -> 3826.7832 | E17: =C17/1976 -> 23.239574 | F17: =E17/2 -> 11.619787 | G17: =E17/5 -> 4.6479148 | H17: =C17/2080 -> 22.077595
A18: =A17+1 -> 11 | B18: 37357.77 | C18: =B18*$D$3 -> 46450.651 | D18: =B18/12*$D$3 -> 3870.8876 | E18: =C18/1976 -> 23.507415 | F18: =E18/2 -> 11.753707 | G18: =E18/5 -> 4.7014829 | H18: =C18/2080 -> 22.332044
A19: =A18+1 -> 12 | B19: 38544.26 | C19: =B19*$D$3 -> 47925.933 | D19: =B19/12*$D$3 -> 3993.8277 | E19: =C19/1976 -> 24.254015 | F19: =E19/2 -> 12.127007 | G19: =E19/5 -> 4.8508029 | H19: =C19/2080 -> 23.041314
... A42: =A41+1 -> 35 | B42: 50308.15 | C42: =B42*$D$3 -> 62553.154 | D42: =B42/12*$D$3 -> 5212.7628 | E42: =C42/1976 -> 31.656454 | F42: =E42/2 -> 15.828227 | G42: =E42/5 -> 6.3312909 | H42: =C42/2080 -> 30.073632

Sheet B3
A1: B3 | B1: BEGELEIDEND PERSONEEL KLASSE 3
D2: =Inhoud!B4 -> 46235
C3: coëfficiënt: | D3: =Inhoud!B6 -> 1.2434
B4: JAARLOON | D4: MAANDLOON | E4: UURLOON
B5: 1 | E5: 38u | H5: 40u
B6: ='L4'!$B$6 -> basis 01/01/2022 | C6: =D2 -> 46235 | D6: =C6 -> 46235 | E6: 1 | F6: 0.5 | G6: 0.2
A7: 0 | B7: 28010.54 | C7: =B7*$D$3 -> 34828.305 | D7: =B7/12*$D$3 -> 2902.3588 | E7: =C7/1976 -> 17.625661 | F7: =E7/2 -> 8.8128303 | G7: =E7/5 -> 3.5251321 | H7: =C7/2080 -> 16.744378
A8: =A7+1 -> 1 | B8: 28576.64 | C8: =B8*$D$3 -> 35532.194 | D8: =B8/12*$D$3 -> 2961.0162 | E8: =C8/1976 -> 17.98188 | F8: =E8/2 -> 8.9909398 | G8: =E8/5 -> 3.5963759 | H8: =C8/2080 -> 17.082786
A9: =A8+1 -> 2 | B9: 29111.33 | C9: =B9*$D$3 -> 36197.028 | D9: =B9/12*$D$3 -> 3016.419 | E9: =C9/1976 -> 18.318334 | F9: =E9/2 -> 9.1591669 | G9: =E9/5 -> 3.6636668 | H9: =C9/2080 -> 17.402417
A10: =A9+1 -> 3 | B10: 29615.53 | C10: =B10*$D$3 -> 36823.95 | D10: =B10/12*$D$3 -> 3068.6625 | E10: =C10/1976 -> 18.635602 | F10: =E10/2 -> 9.3178011 | G10: =E10/5 -> 3.7271204 | H10: =C10/2080 -> 17.703822
A11: =A10+1 -> 4 | B11: 30090.29 | C11: =B11*$D$3 -> 37414.267 | D11: =B11/12*$D$3 -> 3117.8555 | E11: =C11/1976 -> 18.934345 | F11: =E11/2 -> 9.4671727 | G11: =E11/5 -> 3.7868691 | H11: =C11/2080 -> 17.987628
A12: =A11+1 -> 5 | B12: 30536.66 | C12: =B12*$D$3 -> 37969.283 | D12: =B12/12*$D$3 -> 3164.1069 | E12: =C12/1976 -> 19.215224 | F12: =E12/2 -> 9.6076121 | G12: =E12/5 -> 3.8430448 | H12: =C12/2080 -> 18.254463
A13: =A12+1 -> 6 | B13: 30955.9 | C13: =B13*$D$3 -> 38490.566 | D13: =B13/12*$D$3 -> 3207.5472 | E13: =C13/1976 -> 19.479031 | F13: =E13/2 -> 9.7395157 | G13: =E13/5 -> 3.8958063 | H13: =C13/2080 -> 18.50508
A14: =A13+1 -> 7 | B14: 31349.29 | C14: =B14*$D$3 -> 38979.707 | D14: =B14/12*$D$3 -> 3248.3089 | E14: =C14/1976 -> 19.726572 | F14: =E14/2 -> 9.8632862 | G14: =E14/5 -> 3.9453145 | H14: =C14/2080 -> 18.740244
A15: =A14+1 -> 8 | B15: 31717.88 | C15: =B15*$D$3 -> 39438.012 | D15: =B15/12*$D$3 -> 3286.501 | E15: =C15/1976 -> 19.958508 | F15: =E15/2 -> 9.979254 | G15: =E15/5 -> 3.9917016 | H15: =C15/2080 -> 18.960583
A16: =A15+1 -> 9 | B16: 32063.06 | C16: =B16*$D$3 -> 39867.209 | D16: =B16/12*$D$3 -> 3322.2674 | E16: =C16/1976 -> 20.175713 | F16: =E16/2 -> 10.087856 | G16: =E16/5 -> 4.0351426 | H16: =C16/2080 -> 19.166927
A17: =A16+1 -> 10 | B17: 32385.98 | C17: =B17*$D$3 -> 40268.728 | D17: =B17/12*$D$3 -> 3355.7273 | E17: =C17/1976 -> 20.378911 | F17: =E17/2 -> 10.189455 | G17: =E17/5 -> 4.0757821 | H17: =C17/2080 -> 19.359965
A18: =A17+1 -> 11 | B18: 32687.69 | C18: =B18*$D$3 -> 40643.874 | D18: =B18/12*$D$3 -> 3386.9895 | E18: =C18/1976 -> 20.568762 | F18: =E18/2 -> 10.284381 | G18: =E18/5 -> 4.1137524 | H18: =C18/2080 -> 19.540324
A19: =A18+1 -> 12 | B19: 32969.58 | C19: =B19*$D$3 -> 40994.376 | D19: =B19/12*$D$3 -> 3416.198 | E19: =C19/1976 -> 20.746142 | F19: =E19/2 -> 10.373071 | G19: =E19/5 -> 4.1492283 | H19: =C19/2080 -> 19.708835
... A42: =A41+1 -> 35 | B42: 41355.94 | C42: =B42*$D$3 -> 51421.976 | D42: =B42/12*$D$3 -> 4285.1646 | E42: =C42/1976 -> 26.023267 | F42: =E42/2 -> 13.011634 | G42: =E42/5 -> 5.2046534 | H42: =C42/2080 -> 24.722104

Sheet B2B
A1: B2B | B1: BEGELEIDEND PERSONEEL KLASSE 2B
D2: =Inhoud!B4 -> 46235
C3: coëfficiënt: | D3: =Inhoud!B6 -> 1.2434
B4: JAARLOON | D4: MAANDLOON | E4: UURLOON
B5: 1 | E5: 38u | H5: 40u
B6: ='L4'!$B$6 -> basis 01/01/2022 | C6: =D2 -> 46235 | D6: =C6 -> 46235 | E6: 1 | F6: 0.5 | G6: 0.2
A7: 0 | B7: 28010.54 | C7: =B7*$D$3 -> 34828.305 | D7: =B7/12*$D$3 -> 2902.3588 | E7: =C7/1976 -> 17.625661 | F7: =E7/2 -> 8.8128303 | G7: =E7/5 -> 3.5251321 | H7: =C7/2080 -> 16.744378
A8: =A7+1 -> 1 | B8: 28576.64 | C8: =B8*$D$3 -> 35532.194 | D8: =B8/12*$D$3 -> 2961.0162 | E8: =C8/1976 -> 17.98188 | F8: =E8/2 -> 8.9909398 | G8: =E8/5 -> 3.5963759 | H8: =C8/2080 -> 17.082786
A9: =A8+1 -> 2 | B9: 29111.33 | C9: =B9*$D$3 -> 36197.028 | D9: =B9/12*$D$3 -> 3016.419 | E9: =C9/1976 -> 18.318334 | F9: =E9/2 -> 9.1591669 | G9: =E9/5 -> 3.6636668 | H9: =C9/2080 -> 17.402417
A10: =A9+1 -> 3 | B10: 29615.53 | C10: =B10*$D$3 -> 36823.95 | D10: =B10/12*$D$3 -> 3068.6625 | E10: =C10/1976 -> 18.635602 | F10: =E10/2 -> 9.3178011 | G10: =E10/5 -> 3.7271204 | H10: =C10/2080 -> 17.703822
A11: =A10+1 -> 4 | B11: 30090.29 | C11: =B11*$D$3 -> 37414.267 | D11: =B11/12*$D$3 -> 3117.8555 | E11: =C11/1976 -> 18.934345 | F11: =E11/2 -> 9.4671727 | G11: =E11/5 -> 3.7868691 | H11: =C11/2080 -> 17.987628
A12: =A11+1 -> 5 | B12: 30536.66 | C12: =B12*$D$3 -> 37969.283 | D12: =B12/12*$D$3 -> 3164.1069 | E12: =C12/1976 -> 19.215224 | F12: =E12/2 -> 9.6076121 | G12: =E12/5 -> 3.8430448 | H12: =C12/2080 -> 18.254463
A13: =A12+1 -> 6 | B13: 30955.9 | C13: =B13*$D$3 -> 38490.566 | D13: =B13/12*$D$3 -> 3207.5472 | E13: =C13/1976 -> 19.479031 | F13: =E13/2 -> 9.7395157 | G13: =E13/5 -> 3.8958063 | H13: =C13/2080 -> 18.50508
A14: =A13+1 -> 7 | B14: 31349.29 | C14: =B14*$D$3 -> 38979.707 | D14: =B14/12*$D$3 -> 3248.3089 | E14: =C14/1976 -> 19.726572 | F14: =E14/2 -> 9.8632862 | G14: =E14/5 -> 3.9453145 | H14: =C14/2080 -> 18.740244
A15: =A14+1 -> 8 | B15: 31717.88 | C15: =B15*$D$3 -> 39438.012 | D15: =B15/12*$D$3 -> 3286.501 | E15: =C15/1976 -> 19.958508 | F15: =E15/2 -> 9.979254 | G15: =E15/5 -> 3.9917016 | H15: =C15/2080 -> 18.960583
A16: =A15+1 -> 9 | B16: 32063.06 | C16: =B16*$D$3 -> 39867.209 | D16: =B16/12*$D$3 -> 3322.2674 | E16: =C16/1976 -> 20.175713 | F16: =E16/2 -> 10.087856 | G16: =E16/5 -> 4.0351426 | H16: =C16/2080 -> 19.166927
A17: =A16+1 -> 10 | B17: 32385.98 | C17: =B17*$D$3 -> 40268.728 | D17: =B17/12*$D$3 -> 3355.7273 | E17: =C17/1976 -> 20.378911 | F17: =E17/2 -> 10.189455 | G17: =E17/5 -> 4.0757821 | H17: =C17/2080 -> 19.359965
A18: =A17+1 -> 11 | B18: 32687.69 | C18: =B18*$D$3 -> 40643.874 | D18: =B18/12*$D$3 -> 3386.9895 | E18: =C18/1976 -> 20.568762 | F18: =E18/2 -> 10.284381 | G18: =E18/5 -> 4.1137524 | H18: =C18/2080 -> 19.540324
A19: =A18+1 -> 12 | B19: 32969.58 | C19: =B19*$D$3 -> 40994.376 | D19: =B19/12*$D$3 -> 3416.198 | E19: =C19/1976 -> 20.746142 | F19: =E19/2 -> 10.373071 | G19: =E19/5 -> 4.1492283 | H19: =C19/2080 -> 19.708835
... A42: =A41+1 -> 35 | B42: 42858.56 | C42: =B42*$D$3 -> 53290.334 | D42: =B42/12*$D$3 -> 4440.8611 | E42: =C42/1976 -> 26.968792 | F42: =E42/2 -> 13.484396 | G42: =E42/5 -> 5.3937585 | H42: =C42/2080 -> 25.620353

Sheet B2A
A1: B2A | B1: BEGELEIDEND PERSONEEL KLASSE 2A
D2: =Inhoud!B4 -> 46235
C3: coëfficiënt: | D3: =Inhoud!B6 -> 1.2434
B4: JAARLOON | D4: MAANDLOON | E4: UURLOON
B5: 1 | E5: 38u | H5: 40u
B6: ='L4'!$B$6 -> basis 01/01/2022 | C6: =D2 -> 46235 | D6: =C6 -> 46235 | E6: 1 | F6: 0.5 | G6: 0.2
A7: 0 | B7: 28010.54 | C7: =B7*$D$3 -> 34828.305 | D7: =B7/12*$D$3 -> 2902.3588 | E7: =C7/1976 -> 17.625661 | F7: =E7/2 -> 8.8128303 | G7: =E7/5 -> 3.5251321 | H7: =C7/2080 -> 16.744378
A8: =A7+1 -> 1 | B8: 28576.64 | C8: =B8*$D$3 -> 35532.194 | D8: =B8/12*$D$3 -> 2961.0162 | E8: =C8/1976 -> 17.98188 | F8: =E8/2 -> 8.9909398 | G8: =E8/5 -> 3.5963759 | H8: =C8/2080 -> 17.082786
A9: =A8+1 -> 2 | B9: 29111.33 | C9: =B9*$D$3 -> 36197.028 | D9: =B9/12*$D$3 -> 3016.419 | E9: =C9/1976 -> 18.318334 | F9: =E9/2 -> 9.1591669 | G9: =E9/5 -> 3.6636668 | H9: =C9/2080 -> 17.402417
A10: =A9+1 -> 3 | B10: 29615.53 | C10: =B10*$D$3 -> 36823.95 | D10: =B10/12*$D$3 -> 3068.6625 | E10: =C10/1976 -> 18.635602 | F10: =E10/2 -> 9.3178011 | G10: =E10/5 -> 3.7271204 | H10: =C10/2080 -> 17.703822
A11: =A10+1 -> 4 | B11: 30090.29 | C11: =B11*$D$3 -> 37414.267 | D11: =B11/12*$D$3 -> 3117.8555 | E11: =C11/1976 -> 18.934345 | F11: =E11/2 -> 9.4671727 | G11: =E11/5 -> 3.7868691 | H11: =C11/2080 -> 17.987628
A12: =A11+1 -> 5 | B12: 30536.66 | C12: =B12*$D$3 -> 37969.283 | D12: =B12/12*$D$3 -> 3164.1069 | E12: =C12/1976 -> 19.215224 | F12: =E12/2 -> 9.6076121 | G12: =E12/5 -> 3.8430448 | H12: =C12/2080 -> 18.254463
A13: =A12+1 -> 6 | B13: 30955.9 | C13: =B13*$D$3 -> 38490.566 | D13: =B13/12*$D$3 -> 3207.5472 | E13: =C13/1976 -> 19.479031 | F13: =E13/2 -> 9.7395157 | G13: =E13/5 -> 3.8958063 | H13: =C13/2080 -> 18.50508
A14: =A13+1 -> 7 | B14: 31349.29 | C14: =B14*$D$3 -> 38979.707 | D14: =B14/12*$D$3 -> 3248.3089 | E14: =C14/1976 -> 19.726572 | F14: =E14/2 -> 9.8632862 | G14: =E14/5 -> 3.9453145 | H14: =C14/2080 -> 18.740244
A15: =A14+1 -> 8 | B15: 32078.68 | C15: =B15*$D$3 -> 39886.631 | D15: =B15/12*$D$3 -> 3323.8859 | E15: =C15/1976 -> 20.185542 | F15: =E15/2 -> 10.092771 | G15: =E15/5 -> 4.0371084 | H15: =C15/2080 -> 19.176265
A16: =A15+1 -> 9 | B16: 32094.13 | C16: =B16*$D$3 -> 39905.841 | D16: =B16/12*$D$3 -> 3325.4868 | E16: =C16/1976 -> 20.195264 | F16: =E16/2 -> 10.097632 | G16: =E16/5 -> 4.0390528 | H16: =C16/2080 -> 19.185501
A17: =A16+1 -> 10 | B17: 32918.76 | C17: =B17*$D$3 -> 40931.186 | D17: =B17/12*$D$3 -> 3410.9322 | E17: =C17/1976 -> 20.714163 | F17: =E17/2 -> 10.357082 | G17: =E17/5 -> 4.1428326 | H17: =C17/2080 -> 19.678455
A18: =A17+1 -> 11 | B18: 32918.76 | C18: =B18*$D$3 -> 40931.186 | D18: =B18/12*$D$3 -> 3410.9322 | E18: =C18/1976 -> 20.714163 | F18: =E18/2 -> 10.357082 | G18: =E18/5 -> 4.1428326 | H18: =C18/2080 -> 19.678455
A19: =A18+1 -> 12 | B19: 34296.66 | C19: =B19*$D$3 -> 42644.467 | D19: =B19/12*$D$3 -> 3553.7056 | E19: =C19/1976 -> 21.581208 | F19: =E19/2 -> 10.790604 | G19: =E19/5 -> 4.3162416 | H19: =C19/2080 -> 20.502148
... A42: =A41+1 -> 35 | B42: 44862.05 | C42: =B42*$D$3 -> 55781.473 | D42: =B42/12*$D$3 -> 4648.4561 | E42: =C42/1976 -> 28.22949 | F42: =E42/2 -> 14.114745 | G42: =E42/5 -> 5.6458981 | H42: =C42/2080 -> 26.818016

Sheet B1C
A1: B1C | B1: BEGELEIDEND PERSONEEL KLASSE 1
D2: =Inhoud!B4 -> 46235
C3: coëfficiënt: | D3: =Inhoud!B6 -> 1.2434
B4: JAARLOON | D4: MAANDLOON | E4: UURLOON
B5: 1 | E5: 38u | H5: 40u
B6: ='L4'!$B$6 -> basis 01/01/2022 | C6: =D2 -> 46235 | D6: =C6 -> 46235 | E6: 1 | F6: 0.5 | G6: 0.2
A7: 0 | B7: 29736.12 | C7: =B7*$D$3 -> 36973.892 | D7: =B7/12*$D$3 -> 3081.1576 | E7: =C7/1976 -> 18.711484 | F7: =E7/2 -> 9.3557418 | G7: =E7/5 -> 3.7422967 | H7: =C7/2080 -> 17.775909
A8: =A7+1 -> 1 | B8: 30005.96 | C8: =B8*$D$3 -> 37309.411 | D8: =B8/12*$D$3 -> 3109.1176 | E8: =C8/1976 -> 18.881281 | F8: =E8/2 -> 9.4406404 | G8: =E8/5 -> 3.7762561 | H8: =C8/2080 -> 17.937217
A9: =A8+1 -> 2 | B9: 30848.99 | C9: =B9*$D$3 -> 38357.634 | D9: =B9/12*$D$3 -> 3196.4695 | E9: =C9/1976 -> 19.411758 | F9: =E9/2 -> 9.7058791 | G9: =E9/5 -> 3.8823516 | H9: =C9/2080 -> 18.44117
A10: =A9+1 -> 3 | B10: 31986.82 | C10: =B10*$D$3 -> 39772.412 | D10: =B10/12*$D$3 -> 3314.3677 | E10: =C10/1976 -> 20.127739 | F10: =E10/2 -> 10.063869 | G10: =E10/5 -> 4.0255478 | H10: =C10/2080 -> 19.121352
A11: =A10+1 -> 4 | B11: 32918.76 | C11: =B11*$D$3 -> 40931.186 | D11: =B11/12*$D$3 -> 3410.9322 | E11: =C11/1976 -> 20.714163 | F11: =E11/2 -> 10.357082 | G11: =E11/5 -> 4.1428326 | H11: =C11/2080 -> 19.678455
A12: =A11+1 -> 5 | B12: 32918.76 | C12: =B12*$D$3 -> 40931.186 | D12: =B12/12*$D$3 -> 3410.9322 | E12: =C12/1976 -> 20.714163 | F12: =E12/2 -> 10.357082 | G12: =E12/5 -> 4.1428326 | H12: =C12/2080 -> 19.678455
A13: =A12+1 -> 6 | B13: 34091.41 | C13: =B13*$D$3 -> 42389.259 | D13: =B13/12*$D$3 -> 3532.4383 | E13: =C13/1976 -> 21.452054 | F13: =E13/2 -> 10.726027 | G13: =E13/5 -> 4.2904108 | H13: =C13/2080 -> 20.379452
A14: =A13+1 -> 7 | B14: 34102.91 | C14: =B14*$D$3 -> 42403.558 | D14: =B14/12*$D$3 -> 3533.6299 | E14: =C14/1976 -> 21.459291 | F14: =E14/2 -> 10.729645 | G14: =E14/5 -> 4.2918581 | H14: =C14/2080 -> 20.386326
A15: =A14+1 -> 8 | B15: 35715.06 | C15: =B15*$D$3 -> 44408.106 | D15: =B15/12*$D$3 -> 3700.6755 | E15: =C15/1976 -> 22.473738 | F15: =E15/2 -> 11.236869 | G15: =E15/5 -> 4.4947475 | H15: =C15/2080 -> 21.350051
A16: =A15+1 -> 9 | B16: 35730.06 | C16: =B16*$D$3 -> 44426.757 | D16: =B16/12*$D$3 -> 3702.2297 | E16: =C16/1976 -> 22.483176 | F16: =E16/2 -> 11.241588 | G16: =E16/5 -> 4.4966353 | H16: =C16/2080 -> 21.359018
A17: =A16+1 -> 10 | B17: 37342.19 | C17: =B17*$D$3 -> 46431.279 | D17: =B17/12*$D$3 -> 3869.2733 | E17: =C17/1976 -> 23.497611 | F17: =E17/2 -> 11.748805 | G17: =E17/5 -> 4.6995222 | H17: =C17/2080 -> 22.32273
A18: =A17+1 -> 11 | B18: 37359.7 | C18: =B18*$D$3 -> 46453.051 | D18: =B18/12*$D$3 -> 3871.0876 | E18: =C18/1976 -> 23.508629 | F18: =E18/2 -> 11.754315 | G18: =E18/5 -> 4.7017258 | H18: =C18/2080 -> 22.333198
A19: =A18+1 -> 12 | B19: 38971.85 | C19: =B19*$D$3 -> 48457.598 | D19: =B19/12*$D$3 -> 4038.1332 | E19: =C19/1976 -> 24.523076 | F19: =E19/2 -> 12.261538 | G19: =E19/5 -> 4.9046152 | H19: =C19/2080 -> 23.296922
... A42: =A41+1 -> 35 | B42: 50872.53 | C42: =B42*$D$3 -> 63254.904 | D42: =B42/12*$D$3 -> 5271.242 | E42: =C42/1976 -> 32.011591 | F42: =E42/2 -> 16.005795 | G42: =E42/5 -> 6.4023182 | H42: =C42/2080 -> 30.411011

Sheet B1B
A1: B1B | B1: DIENSTHOOFD IN DE ERKENDE KINDERDAGVERBLIJVEN
D2: =Inhoud!B4 -> 46235
C3: coëfficiënt: | D3: =Inhoud!B6 -> 1.2434
B4: JAARLOON | D4: MAANDLOON | E4: UURLOON
B5: 1 | E5: 38u | H5: 40u
B6: ='L4'!$B$6 -> basis 01/01/2022 | C6: =D2 -> 46235 | D6: =C6 -> 46235 | E6: 1 | F6: 0.5 | G6: 0.2
A7: 0 | B7: 32918.76 | C7: =B7*$D$3 -> 40931.186 | D7: =B7/12*$D$3 -> 3410.9322 | E7: =C7/1976 -> 20.714163 | F7: =E7/2 -> 10.357082 | G7: =E7/5 -> 4.1428326 | H7: =C7/2080 -> 19.678455
A8: =A7+1 -> 1 | B8: 33694.48 | C8: =B8*$D$3 -> 41895.716 | D8: =B8/12*$D$3 -> 3491.3097 | E8: =C8/1976 -> 21.202286 | F8: =E8/2 -> 10.601143 | G8: =E8/5 -> 4.2404571 | H8: =C8/2080 -> 20.142171
A9: =A8+1 -> 2 | B9: 34781.47 | C9: =B9*$D$3 -> 43247.28 | D9: =B9/12*$D$3 -> 3603.94 | E9: =C9/1976 -> 21.886275 | F9: =E9/2 -> 10.943138 | G9: =E9/5 -> 4.377255 | H9: =C9/2080 -> 20.791961
A10: =A9+1 -> 3 | B10: 35820.36 | C10: =B10*$D$3 -> 44539.036 | D10: =B10/12*$D$3 -> 3711.5863 | E10: =C10/1976 -> 22.539998 | F10: =E10/2 -> 11.269999 | G10: =E10/5 -> 4.5079996 | H10: =C10/2080 -> 21.412998
A11: =A10+1 -> 4 | B11: 36811.03 | C11: =B11*$D$3 -> 45770.835 | D11: =B11/12*$D$3 -> 3814.2362 | E11: =C11/1976 -> 23.163378 | F11: =E11/2 -> 11.581689 | G11: =E11/5 -> 4.6326756 | H11: =C11/2080 -> 22.005209
A12: =A11+1 -> 5 | B12: 37753.37 | C12: =B12*$D$3 -> 46942.54 | D12: =B12/12*$D$3 -> 3911.8784 | E12: =C12/1976 -> 23.756346 | F12: =E12/2 -> 11.878173 | G12: =E12/5 -> 4.7512693 | H12: =C12/2080 -> 22.568529
A13: =A12+1 -> 6 | B13: 38648.07 | C13: =B13*$D$3 -> 48055.01 | D13: =B13/12*$D$3 -> 4004.5842 | E13: =C13/1976 -> 24.319337 | F13: =E13/2 -> 12.159669 | G13: =E13/5 -> 4.8638674 | H13: =C13/2080 -> 23.10337
A14: =A13+1 -> 7 | B14: 39492.85 | C14: =B14*$D$3 -> 49105.41 | D14: =B14/12*$D$3 -> 4092.1175 | E14: =C14/1976 -> 24.850916 | F14: =E14/2 -> 12.425458 | G14: =E14/5 -> 4.9701832 | H14: =C14/2080 -> 23.60837
A15: =A14+1 -> 8 | B15: 40279.09 | C15: =B15*$D$3 -> 50083.021 | D15: =B15/12*$D$3 -> 4173.585 | E15: =C15/1976 -> 25.345658 | F15: =E15/2 -> 12.672829 | G15: =E15/5 -> 5.0691316 | H15: =C15/2080 -> 24.078375
A16: =A15+1 -> 9 | B16: 41021.34 | C16: =B16*$D$3 -> 51005.934 | D16: =B16/12*$D$3 -> 4250.4945 | E16: =C16/1976 -> 25.81272 | F16: =E16/2 -> 12.90636 | G16: =E16/5 -> 5.1625439 | H16: =C16/2080 -> 24.522084
A17: =A16+1 -> 10 | B17: 41721.44 | C17: =B17*$D$3 -> 51876.438 | D17: =B17/12*$D$3 -> 4323.0365 | E17: =C17/1976 -> 26.253258 | F17: =E17/2 -> 13.126629 | G17: =E17/5 -> 5.2506517 | H17: =C17/2080 -> 24.940595
A18: =A17+1 -> 11 | B18: 42380.41 | C18: =B18*$D$3 -> 52695.802 | D18: =B18/12*$D$3 -> 4391.3168 | E18: =C18/1976 -> 26.667916 | F18: =E18/2 -> 13.333958 | G18: =E18/5 -> 5.3335832 | H18: =C18/2080 -> 25.33452
A19: =A18+1 -> 12 | B19: 43000.05 | C19: =B19*$D$3 -> 53466.262 | D19: =B19/12*$D$3 -> 4455.5218 | E19: =C19/1976 -> 27.057825 | F19: =E19/2 -> 13.528912 | G19: =E19/5 -> 5.411565 | H19: =C19/2080 -> 25.704934
... A42: =A41+1 -> 35 | B42: 54378.64 | C42: =B42*$D$3 -> 67614.401 | D42: =B42/12*$D$3 -> 5634.5334 | E42: =C42/1976 -> 34.217814 | F42: =E42/2 -> 17.108907 | G42: =E42/5 -> 6.8435629 | H42: =C42/2080 -> 32.506924

Sheet MV2
A1: MV2 | B1: GEBREVETTEERDE VERPLEEGKUNDIGE
D2: =Inhoud!B4 -> 46235
C3: coëfficiënt: | D3: =Inhoud!B6 -> 1.2434
B4: JAARLOON | D4: MAANDLOON | E4: UURLOON
B5: 1 | E5: 38u | H5: 40u
B6: ='L4'!$B$6 -> basis 01/01/2022 | C6: =D2 -> 46235 | D6: =C6 -> 46235 | E6: 1 | F6: 0.5 | G6: 0.2
A7: 0 | B7: 28017.43 | C7: =B7*$D$3 -> 34836.872 | D7: =B7/12*$D$3 -> 2903.0727 | E7: =C7/1976 -> 17.629996 | F7: =E7/2 -> 8.8149981 | G7: =E7/5 -> 3.5259992 | H7: =C7/2080 -> 16.748496
A8: =A7+1 -> 1 | B8: 28899.68 | C8: =B8*$D$3 -> 35933.862 | D8: =B8/12*$D$3 -> 2994.4885 | E8: =C8/1976 -> 18.185153 | F8: =E8/2 -> 9.0925764 | G8: =E8/5 -> 3.6370306 | H8: =C8/2080 -> 17.275895
A9: =A8+1 -> 2 | B9: 29736.12 | C9: =B9*$D$3 -> 36973.892 | D9: =B9/12*$D$3 -> 3081.1576 | E9: =C9/1976 -> 18.711484 | F9: =E9/2 -> 9.3557418 | G9: =E9/5 -> 3.7422967 | H9: =C9/2080 -> 17.775909
A10: =A9+1 -> 3 | B10: 30410.18 | C10: =B10*$D$3 -> 37812.018 | D10: =B10/12*$D$3 -> 3151.0015 | E10: =C10/1976 -> 19.135637 | F10: =E10/2 -> 9.5678183 | G10: =E10/5 -> 3.8271273 | H10: =C10/2080 -> 18.178855
A11: =A10+1 -> 4 | B11: 31484.72 | C11: =B11*$D$3 -> 39148.101 | D11: =B11/12*$D$3 -> 3262.3417 | E11: =C11/1976 -> 19.811792 | F11: =E11/2 -> 9.905896 | G11: =E11/5 -> 3.9623584 | H11: =C11/2080 -> 18.821202
A12: =A11+1 -> 5 | B12: 31497.98 | C12: =B12*$D$3 -> 39164.588 | D12: =B12/12*$D$3 -> 3263.7157 | E12: =C12/1976 -> 19.820136 | F12: =E12/2 -> 9.9100679 | G12: =E12/5 -> 3.9640272 | H12: =C12/2080 -> 18.829129
A13: =A12+1 -> 6 | B13: 32918.76 | C13: =B13*$D$3 -> 40931.186 | D13: =B13/12*$D$3 -> 3410.9322 | E13: =C13/1976 -> 20.714163 | F13: =E13/2 -> 10.357082 | G13: =E13/5 -> 4.1428326 | H13: =C13/2080 -> 19.678455
A14: =A13+1 -> 7 | B14: 32918.76 | C14: =B14*$D$3 -> 40931.186 | D14: =B14/12*$D$3 -> 3410.9322 | E14: =C14/1976 -> 20.714163 | F14: =E14/2 -> 10.357082 | G14: =E14/5 -> 4.1428326 | H14: =C14/2080 -> 19.678455
A15: =A14+1 -> 8 | B15: 33927.54 | C15: =B15*$D$3 -> 42185.503 | D15: =B15/12*$D$3 -> 3515.4586 | E15: =C15/1976 -> 21.348939 | F15: =E15/2 -> 10.674469 | G15: =E15/5 -> 4.2697878 | H15: =C15/2080 -> 20.281492
A16: =A15+1 -> 9 | B16: 33960.54 | C16: =B16*$D$3 -> 42226.535 | D16: =B16/12*$D$3 -> 3518.878 | E16: =C16/1976 -> 21.369704 | F16: =E16/2 -> 10.684852 | G16: =E16/5 -> 4.2739408 | H16: =C16/2080 -> 20.301219
A17: =A16+1 -> 10 | B17: 35492.08 | C17: =B17*$D$3 -> 44130.852 | D17: =B17/12*$D$3 -> 3677.571 | E17: =C17/1976 -> 22.333427 | F17: =E17/2 -> 11.166714 | G17: =E17/5 -> 4.4666855 | H17: =C17/2080 -> 21.216756
A18: =A17+1 -> 11 | B18: 35503.59 | C18: =B18*$D$3 -> 44145.164 | D18: =B18/12*$D$3 -> 3678.7637 | E18: =C18/1976 -> 22.34067 | F18: =E18/2 -> 11.170335 | G18: =E18/5 -> 4.468134 | H18: =C18/2080 -> 21.223636
A19: =A18+1 -> 12 | B19: 37035.1 | C19: =B19*$D$3 -> 46049.443 | D19: =B19/12*$D$3 -> 3837.4536 | E19: =C19/1976 -> 23.304374 | F19: =E19/2 -> 11.652187 | G19: =E19/5 -> 4.6608748 | H19: =C19/2080 -> 22.139155
... A42: =A41+1 -> 35 | B42: 48368.16 | C42: =B42*$D$3 -> 60140.97 | D42: =B42/12*$D$3 -> 5011.7475 | E42: =C42/1976 -> 30.435714 | F42: =E42/2 -> 15.217857 | G42: =E42/5 -> 6.0871427 | H42: =C42/2080 -> 28.913928

Sheet MV1
A1: MV1 | B1: SOCIAAL, VERPLEEGKUNDIG, PARAMEDISCH & THERAPEUTISCH PERSONEEL
D2: =Inhoud!B4 -> 46235
C3: coëfficiënt: | D3: =Inhoud!B6 -> 1.2434
B4: JAARLOON | D4: MAANDLOON | E4: UURLOON
B5: 1 | E5: 38u | H5: 40u
B6: ='L4'!$B$6 -> basis 01/01/2022 | C6: =D2 -> 46235 | D6: =C6 -> 46235 | E6: 1 | F6: 0.5 | G6: 0.2
A7: 0 | B7: 32560.19 | C7: =B7*$D$3 -> 40485.34 | D7: =B7/12*$D$3 -> 3373.7784 | E7: =C7/1976 -> 20.488533 | F7: =E7/2 -> 10.244266 | G7: =E7/5 -> 4.0977065 | H7: =C7/2080 -> 19.464106
A8: =A7+1 -> 1 | B8: 33694.48 | C8: =B8*$D$3 -> 41895.716 | D8: =B8/12*$D$3 -> 3491.3097 | E8: =C8/1976 -> 21.202286 | F8: =E8/2 -> 10.601143 | G8: =E8/5 -> 4.2404571 | H8: =C8/2080 -> 20.142171
A9: =A8+1 -> 2 | B9: 34781.47 | C9: =B9*$D$3 -> 43247.28 | D9: =B9/12*$D$3 -> 3603.94 | E9: =C9/1976 -> 21.886275 | F9: =E9/2 -> 10.943138 | G9: =E9/5 -> 4.377255 | H9: =C9/2080 -> 20.791961
A10: =A9+1 -> 3 | B10: 35820.36 | C10: =B10*$D$3 -> 44539.036 | D10: =B10/12*$D$3 -> 3711.5863 | E10: =C10/1976 -> 22.539998 | F10: =E10/2 -> 11.269999 | G10: =E10/5 -> 4.5079996 | H10: =C10/2080 -> 21.412998
A11: =A10+1 -> 4 | B11: 36811.03 | C11: =B11*$D$3 -> 45770.835 | D11: =B11/12*$D$3 -> 3814.2362 | E11: =C11/1976 -> 23.163378 | F11: =E11/2 -> 11.581689 | G11: =E11/5 -> 4.6326756 | H11: =C11/2080 -> 22.005209
A12: =A11+1 -> 5 | B12: 37753.37 | C12: =B12*$D$3 -> 46942.54 | D12: =B12/12*$D$3 -> 3911.8784 | E12: =C12/1976 -> 23.756346 | F12: =E12/2 -> 11.878173 | G12: =E12/5 -> 4.7512693 | H12: =C12/2080 -> 22.568529
A13: =A12+1 -> 6 | B13: 38648.07 | C13: =B13*$D$3 -> 48055.01 | D13: =B13/12*$D$3 -> 4004.5842 | E13: =C13/1976 -> 24.319337 | F13: =E13/2 -> 12.159669 | G13: =E13/5 -> 4.8638674 | H13: =C13/2080 -> 23.10337
A14: =A13+1 -> 7 | B14: 39492.85 | C14: =B14*$D$3 -> 49105.41 | D14: =B14/12*$D$3 -> 4092.1175 | E14: =C14/1976 -> 24.850916 | F14: =E14/2 -> 12.425458 | G14: =E14/5 -> 4.9701832 | H14: =C14/2080 -> 23.60837
A15: =A14+1 -> 8 | B15: 40279.09 | C15: =B15*$D$3 -> 50083.021 | D15: =B15/12*$D$3 -> 4173.585 | E15: =C15/1976 -> 25.345658 | F15: =E15/2 -> 12.672829 | G15: =E15/5 -> 5.0691316 | H15: =C15/2080 -> 24.078375
A16: =A15+1 -> 9 | B16: 41021.34 | C16: =B16*$D$3 -> 51005.934 | D16: =B16/12*$D$3 -> 4250.4945 | E16: =C16/1976 -> 25.81272 | F16: =E16/2 -> 12.90636 | G16: =E16/5 -> 5.1625439 | H16: =C16/2080 -> 24.522084
A17: =A16+1 -> 10 | B17: 41721.44 | C17: =B17*$D$3 -> 51876.438 | D17: =B17/12*$D$3 -> 4323.0365 | E17: =C17/1976 -> 26.253258 | F17: =E17/2 -> 13.126629 | G17: =E17/5 -> 5.2506517 | H17: =C17/2080 -> 24.940595
A18: =A17+1 -> 11 | B18: 42380.41 | C18: =B18*$D$3 -> 52695.802 | D18: =B18/12*$D$3 -> 4391.3168 | E18: =C18/1976 -> 26.667916 | F18: =E18/2 -> 13.333958 | G18: =E18/5 -> 5.3335832 | H18: =C18/2080 -> 25.33452
A19: =A18+1 -> 12 | B19: 43000.05 | C19: =B19*$D$3 -> 53466.262 | D19: =B19/12*$D$3 -> 4455.5218 | E19: =C19/1976 -> 27.057825 | F19: =E19/2 -> 13.528912 | G19: =E19/5 -> 5.411565 | H19: =C19/2080 -> 25.704934
... A42: =A41+1 -> 35 | B42: 50914.63 | C42: =B42*$D$3 -> 63307.251 | D42: =B42/12*$D$3 -> 5275.6042 | E42: =C42/1976 -> 32.038082 | F42: =E42/2 -> 16.019041 | G42: =E42/5 -> 6.4076165 | H42: =C42/2080 -> 30.436178

Sheet MV1bis
A1: MV1bis | B1: DIENSTVERANTWOORDELIJKEN IN DE DIENSTEN VOOR OPVANGGEZINNEN
D2: =Inhoud!B4 -> 46235
C3: coëfficiënt: | D3: =Inhoud!B6 -> 1.2434
B4: JAARLOON | D4: MAANDLOON | E4: UURLOON
B5: 1 | E5: 38u | H5: 40u
B6: ='L4'!$B$6 -> basis 01/01/2022 | C6: =D2 -> 46235 | D6: =C6 -> 46235 | E6: 1 | F6: 0.5 | G6: 0.2
A7: 0 | B7: 32560.19 | C7: =B7*$D$3 -> 40485.34 | D7: =B7/12*$D$3 -> 3373.7784 | E7: =C7/1976 -> 20.488533 | F7: =E7/2 -> 10.244266 | G7: =E7/5 -> 4.0977065 | H7: =C7/2080 -> 19.464106
A8: =A7+1 -> 1 | B8: 33694.48 | C8: =B8*$D$3 -> 41895.716 | D8: =B8/12*$D$3 -> 3491.3097 | E8: =C8/1976 -> 21.202286 | F8: =E8/2 -> 10.601143 | G8: =E8/5 -> 4.2404571 | H8: =C8/2080 -> 20.142171
A9: =A8+1 -> 2 | B9: 34781.47 | C9: =B9*$D$3 -> 43247.28 | D9: =B9/12*$D$3 -> 3603.94 | E9: =C9/1976 -> 21.886275 | F9: =E9/2 -> 10.943138 | G9: =E9/5 -> 4.377255 | H9: =C9/2080 -> 20.791961
A10: =A9+1 -> 3 | B10: 35820.36 | C10: =B10*$D$3 -> 44539.036 | D10: =B10/12*$D$3 -> 3711.5863 | E10: =C10/1976 -> 22.539998 | F10: =E10/2 -> 11.269999 | G10: =E10/5 -> 4.5079996 | H10: =C10/2080 -> 21.412998
A11: =A10+1 -> 4 | B11: 36811.03 | C11: =B11*$D$3 -> 45770.835 | D11: =B11/12*$D$3 -> 3814.2362 | E11: =C11/1976 -> 23.163378 | F11: =E11/2 -> 11.581689 | G11: =E11/5 -> 4.6326756 | H11: =C11/2080 -> 22.005209
A12: =A11+1 -> 5 | B12: 37753.37 | C12: =B12*$D$3 -> 46942.54 | D12: =B12/12*$D$3 -> 3911.8784 | E12: =C12/1976 -> 23.756346 | F12: =E12/2 -> 11.878173 | G12: =E12/5 -> 4.7512693 | H12: =C12/2080 -> 22.568529
A13: =A12+1 -> 6 | B13: 38648.07 | C13: =B13*$D$3 -> 48055.01 | D13: =B13/12*$D$3 -> 4004.5842 | E13: =C13/1976 -> 24.319337 | F13: =E13/2 -> 12.159669 | G13: =E13/5 -> 4.8638674 | H13: =C13/2080 -> 23.10337
A14: =A13+1 -> 7 | B14: 39492.85 | C14: =B14*$D$3 -> 49105.41 | D14: =B14/12*$D$3 -> 4092.1175 | E14: =C14/1976 -> 24.850916 | F14: =E14/2 -> 12.425458 | G14: =E14/5 -> 4.9701832 | H14: =C14/2080 -> 23.60837
A15: =A14+1 -> 8 | B15: 40279.09 | C15: =B15*$D$3 -> 50083.021 | D15: =B15/12*$D$3 -> 4173.585 | E15: =C15/1976 -> 25.345658 | F15: =E15/2 -> 12.672829 | G15: =E15/5 -> 5.0691316 | H15: =C15/2080 -> 24.078375
A16: =A15+1 -> 9 | B16: 41021.34 | C16: =B16*$D$3 -> 51005.934 | D16: =B16/12*$D$3 -> 4250.4945 | E16: =C16/1976 -> 25.81272 | F16: =E16/2 -> 12.90636 | G16: =E16/5 -> 5.1625439 | H16: =C16/2080 -> 24.522084
A17: =A16+1 -> 10 | B17: 41721.44 | C17: =B17*$D$3 -> 51876.438 | D17: =B17/12*$D$3 -> 4323.0365 | E17: =C17/1976 -> 26.253258 | F17: =E17/2 -> 13.126629 | G17: =E17/5 -> 5.2506517 | H17: =C17/2080 -> 24.940595
A18: =A17+1 -> 11 | B18: 42380.41 | C18: =B18*$D$3 -> 52695.802 | D18: =B18/12*$D$3 -> 4391.3168 | E18: =C18/1976 -> 26.667916 | F18: =E18/2 -> 13.333958 | G18: =E18/5 -> 5.3335832 | H18: =C18/2080 -> 25.33452
A19: =A18+1 -> 12 | B19: 43000.05 | C19: =B19*$D$3 -> 53466.262 | D19: =B19/12*$D$3 -> 4455.5218 | E19: =C19/1976 -> 27.057825 | F19: =E19/2 -> 13.528912 | G19: =E19/5 -> 5.411565 | H19: =C19/2080 -> 25.704934
... A42: =A41+1 -> 35 | B42: 52907.74 | C42: =B42*$D$3 -> 65785.484 | D42: =B42/12*$D$3 -> 5482.1237 | E42: =C42/1976 -> 33.292249 | F42: =E42/2 -> 16.646124 | G42: =E42/5 -> 6.6584498 | H42: =C42/2080 -> 31.627636

Sheet L1
A1: L1 | B1: LICENTIATEN / MASTERS
D2: =Inhoud!B4 -> 46235
C3: coëfficiënt: | D3: =Inhoud!B6 -> 1.2434
B4: JAARLOON | D4: MAANDLOON | E4: UURLOON
B5: 1 | E5: 38u | H5: 40u
B6: ='L4'!$B$6 -> basis 01/01/2022 | C6: =D2 -> 46235 | D6: =C6 -> 46235 | E6: 1 | F6: 0.5 | G6: 0.2
A7: 0 | B7: 37209.4 | C7: =B7*$D$3 -> 46266.168 | D7: =B7/12*$D$3 -> 3855.514 | E7: =C7/1976 -> 23.414053 | F7: =E7/2 -> 11.707026 | G7: =E7/5 -> 4.6828105 | H7: =C7/2080 -> 22.24335
A8: =A7+1 -> 1 | B8: 38324.03 | C8: =B8*$D$3 -> 47652.099 | D8: =B8/12*$D$3 -> 3971.0082 | E8: =C8/1976 -> 24.115435 | F8: =E8/2 -> 12.057717 | G8: =E8/5 -> 4.8230869 | H8: =C8/2080 -> 22.909663
A9: =A8+1 -> 2 | B9: 39437.32 | C9: =B9*$D$3 -> 49036.364 | D9: =B9/12*$D$3 -> 4086.3636 | E9: =C9/1976 -> 24.815974 | F9: =E9/2 -> 12.407987 | G9: =E9/5 -> 4.9631947 | H9: =C9/2080 -> 23.575175
A10: =A9+1 -> 3 | B10: 40530.58 | C10: =B10*$D$3 -> 50395.723 | D10: =B10/12*$D$3 -> 4199.6436 | E10: =C10/1976 -> 25.503908 | F10: =E10/2 -> 12.751954 | G10: =E10/5 -> 5.1007817 | H10: =C10/2080 -> 24.228713
A11: =A10+1 -> 4 | B11: 41856.03 | C11: =B11*$D$3 -> 52043.788 | D11: =B11/12*$D$3 -> 4336.9823 | E11: =C11/1976 -> 26.337949 | F11: =E11/2 -> 13.168975 | G11: =E11/5 -> 5.2675898 | H11: =C11/2080 -> 25.021052
A12: =A11+1 -> 5 | B12: 43535.21 | C12: =B12*$D$3 -> 54131.68 | D12: =B12/12*$D$3 -> 4510.9733 | E12: =C12/1976 -> 27.394575 | F12: =E12/2 -> 13.697287 | G12: =E12/5 -> 5.478915 | H12: =C12/2080 -> 26.024846
A13: =A12+1 -> 6 | B13: 43535.21 | C13: =B13*$D$3 -> 54131.68 | D13: =B13/12*$D$3 -> 4510.9733 | E13: =C13/1976 -> 27.394575 | F13: =E13/2 -> 13.697287 | G13: =E13/5 -> 5.478915 | H13: =C13/2080 -> 26.024846
A14: =A13+1 -> 7 | B14: 45213.81 | C14: =B14*$D$3 -> 56218.851 | D14: =B14/12*$D$3 -> 4684.9043 | E14: =C14/1976 -> 28.450836 | F14: =E14/2 -> 14.225418 | G14: =E14/5 -> 5.6901671 | H14: =C14/2080 -> 27.028294
A15: =A14+1 -> 8 | B15: 45213.81 | C15: =B15*$D$3 -> 56218.851 | D15: =B15/12*$D$3 -> 4684.9043 | E15: =C15/1976 -> 28.450836 | F15: =E15/2 -> 14.225418 | G15: =E15/5 -> 5.6901671 | H15: =C15/2080 -> 27.028294
A16: =A15+1 -> 9 | B16: 46892.46 | C16: =B16*$D$3 -> 58306.085 | D16: =B16/12*$D$3 -> 4858.8404 | E16: =C16/1976 -> 29.507128 | F16: =E16/2 -> 14.753564 | G16: =E16/5 -> 5.9014256 | H16: =C16/2080 -> 28.031772
A17: =A16+1 -> 10 | B17: 47005.84 | C17: =B17*$D$3 -> 58447.061 | D17: =B17/12*$D$3 -> 4870.5885 | E17: =C17/1976 -> 29.578472 | F17: =E17/2 -> 14.789236 | G17: =E17/5 -> 5.9156945 | H17: =C17/2080 -> 28.099549
A18: =A17+1 -> 11 | B18: 48571.06 | C18: =B18*$D$3 -> 60393.256 | D18: =B18/12*$D$3 -> 5032.7713 | E18: =C18/1976 -> 30.563389 | F18: =E18/2 -> 15.281694 | G18: =E18/5 -> 6.1126777 | H18: =C18/2080 -> 29.035219
A19: =A18+1 -> 12 | B19: 49060.05 | C19: =B19*$D$3 -> 61001.266 | D19: =B19/12*$D$3 -> 5083.4388 | E19: =C19/1976 -> 30.871086 | F19: =E19/2 -> 15.435543 | G19: =E19/5 -> 6.1742172 | H19: =C19/2080 -> 29.327532
... A42: =A41+1 -> 35 | B42: 64270.03 | C42: =B42*$D$3 -> 79913.355 | D42: =B42/12*$D$3 -> 6659.4463 | E42: =C42/1976 -> 40.441981 | F42: =E42/2 -> 20.220991 | G42: =E42/5 -> 8.0883963 | H42: =C42/2080 -> 38.419882

Sheet K3
A1: K3 | B1: DIRECTIE IN DE ERKENDE KINDERDAGVERBLIJVEN
D2: =Inhoud!B4 -> 46235
C3: coëfficiënt: | D3: =Inhoud!B6 -> 1.2434
B4: JAARLOON | D4: MAANDLOON | E4: UURLOON
B5: 1 | E5: 38u | H5: 40u
B6: ='L4'!$B$6 -> basis 01/01/2022 | C6: =D2 -> 46235 | D6: =C6 -> 46235 | E6: 1 | F6: 0.5 | G6: 0.2
A7: 0 | B7: 38683.82 | C7: =B7*$D$3 -> 48099.462 | D7: =B7/12*$D$3 -> 4008.2885 | E7: =C7/1976 -> 24.341833 | F7: =E7/2 -> 12.170916 | G7: =E7/5 -> 4.8683666 | H7: =C7/2080 -> 23.124741
A8: =A7+1 -> 1 | B8: 39790.76 | C8: =B8*$D$3 -> 49475.831 | D8: =B8/12*$D$3 -> 4122.9859 | E8: =C8/1976 -> 25.038376 | F8: =E8/2 -> 12.519188 | G8: =E8/5 -> 5.0076752 | H8: =C8/2080 -> 23.786457
A9: =A8+1 -> 2 | B9: 40930.33 | C9: =B9*$D$3 -> 50892.772 | D9: =B9/12*$D$3 -> 4241.0644 | E9: =C9/1976 -> 25.755452 | F9: =E9/2 -> 12.877726 | G9: =E9/5 -> 5.1510903 | H9: =C9/2080 -> 24.467679
A10: =A9+1 -> 3 | B10: 42069.87 | C10: =B10*$D$3 -> 52309.676 | D10: =B10/12*$D$3 -> 4359.1397 | E10: =C10/1976 -> 26.472508 | F10: =E10/2 -> 13.236254 | G10: =E10/5 -> 5.2945017 | H10: =C10/2080 -> 25.148883
A11: =A10+1 -> 4 | B11: 43437.37 | C11: =B11*$D$3 -> 54010.026 | D11: =B11/12*$D$3 -> 4500.8355 | E11: =C11/1976 -> 27.333009 | F11: =E11/2 -> 13.666505 | G11: =E11/5 -> 5.4666018 | H11: =C11/2080 -> 25.966359
A12: =A11+1 -> 5 | B12: 45215.09 | C12: =B12*$D$3 -> 56220.443 | D12: =B12/12*$D$3 -> 4685.0369 | E12: =C12/1976 -> 28.451641 | F12: =E12/2 -> 14.225821 | G12: =E12/5 -> 5.6903282 | H12: =C12/2080 -> 27.029059
A13: =A12+1 -> 6 | B13: 45215.09 | C13: =B13*$D$3 -> 56220.443 | D13: =B13/12*$D$3 -> 4685.0369 | E13: =C13/1976 -> 28.451641 | F13: =E13/2 -> 14.225821 | G13: =E13/5 -> 5.6903282 | H13: =C13/2080 -> 27.029059
A14: =A13+1 -> 7 | B14: 47038.37 | C14: =B14*$D$3 -> 58487.509 | D14: =B14/12*$D$3 -> 4873.9591 | E14: =C14/1976 -> 29.598942 | F14: =E14/2 -> 14.799471 | G14: =E14/5 -> 5.9197884 | H14: =C14/2080 -> 28.118995
A15: =A14+1 -> 8 | B15: 47038.37 | C15: =B15*$D$3 -> 58487.509 | D15: =B15/12*$D$3 -> 4873.9591 | E15: =C15/1976 -> 29.598942 | F15: =E15/2 -> 14.799471 | G15: =E15/5 -> 5.9197884 | H15: =C15/2080 -> 28.118995
A16: =A15+1 -> 9 | B16: 48861.7 | C16: =B16*$D$3 -> 60754.638 | D16: =B16/12*$D$3 -> 5062.8865 | E16: =C16/1976 -> 30.746274 | F16: =E16/2 -> 15.373137 | G16: =E16/5 -> 6.1492548 | H16: =C16/2080 -> 29.20896
A17: =A16+1 -> 10 | B17: 48861.7 | C17: =B17*$D$3 -> 60754.638 | D17: =B17/12*$D$3 -> 5062.8865 | E17: =C17/1976 -> 30.746274 | F17: =E17/2 -> 15.373137 | G17: =E17/5 -> 6.1492548 | H17: =C17/2080 -> 29.20896
A18: =A17+1 -> 11 | B18: 51140.83 | C18: =B18*$D$3 -> 63588.508 | D18: =B18/12*$D$3 -> 5299.0423 | E18: =C18/1976 -> 32.180419 | F18: =E18/2 -> 16.09021 | G18: =E18/5 -> 6.4360838 | H18: =C18/2080 -> 30.571398
A19: =A18+1 -> 12 | B19: 51140.83 | C19: =B19*$D$3 -> 63588.508 | D19: =B19/12*$D$3 -> 5299.0423 | E19: =C19/1976 -> 32.180419 | F19: =E19/2 -> 16.09021 | G19: =E19/5 -> 6.4360838 | H19: =C19/2080 -> 30.571398
... A42: =A41+1 -> 35 | B42: 66868.72 | C42: =B42*$D$3 -> 83144.566 | D42: =B42/12*$D$3 -> 6928.7139 | E42: =C42/1976 -> 42.07721 | F42: =E42/2 -> 21.038605 | G42: =E42/5 -> 8.4154419 | H42: =C42/2080 -> 39.973349

Sheet G1
A1: G1 | B1: GENEESHEER OMNIPRACTICUS
D2: =Inhoud!B4 -> 46235
C3: coëfficiënt: | D3: =Inhoud!B6 -> 1.2434
B4: JAARLOON | D4: MAANDLOON | E4: UURLOON
B5: 1 | E5: 38u | H5: 40u
B6: ='L4'!$B$6 -> basis 01/01/2022 | C6: =D2 -> 46235 | D6: =C6 -> 46235 | E6: 1 | F6: 0.5 | G6: 0.2
A7: 0 | B7: 44579.19 | C7: =B7*$D$3 -> 55429.765 | D7: =B7/12*$D$3 -> 4619.1471 | E7: =C7/1976 -> 28.0515 | F7: =E7/2 -> 14.02575 | G7: =E7/5 -> 5.6103001 | H7: =C7/2080 -> 26.648925
A8: =A7+1 -> 1 | B8: 45641.92 | C8: =B8*$D$3 -> 56751.163 | D8: =B8/12*$D$3 -> 4729.2636 | E8: =C8/1976 -> 28.720224 | F8: =E8/2 -> 14.360112 | G8: =E8/5 -> 5.7440449 | H8: =C8/2080 -> 27.284213
A9: =A8+1 -> 2 | B9: 46704.6 | C9: =B9*$D$3 -> 58072.5 | D9: =B9/12*$D$3 -> 4839.375 | E9: =C9/1976 -> 29.388917 | F9: =E9/2 -> 14.694458 | G9: =E9/5 -> 5.8777834 | H9: =C9/2080 -> 27.919471
A10: =A9+1 -> 3 | B10: 47766.79 | C10: =B10*$D$3 -> 59393.227 | D10: =B10/12*$D$3 -> 4949.4356 | E10: =C10/1976 -> 30.057301 | F10: =E10/2 -> 15.02865 | G10: =E10/5 -> 6.0114602 | H10: =C10/2080 -> 28.554436
A11: =A10+1 -> 4 | B11: 47766.79 | C11: =B11*$D$3 -> 59393.227 | D11: =B11/12*$D$3 -> 4949.4356 | E11: =C11/1976 -> 30.057301 | F11: =E11/2 -> 15.02865 | G11: =E11/5 -> 6.0114602 | H11: =C11/2080 -> 28.554436
A12: =A11+1 -> 5 | B12: 49626.25 | C12: =B12*$D$3 -> 61705.279 | D12: =B12/12*$D$3 -> 5142.1066 | E12: =C12/1976 -> 31.227368 | F12: =E12/2 -> 15.613684 | G12: =E12/5 -> 6.2454736 | H12: =C12/2080 -> 29.666
A13: =A12+1 -> 6 | B13: 49626.25 | C13: =B13*$D$3 -> 61705.279 | D13: =B13/12*$D$3 -> 5142.1066 | E13: =C13/1976 -> 31.227368 | F13: =E13/2 -> 15.613684 | G13: =E13/5 -> 6.2454736 | H13: =C13/2080 -> 29.666
A14: =A13+1 -> 7 | B14: 51485.73 | C14: =B14*$D$3 -> 64017.357 | D14: =B14/12*$D$3 -> 5334.7797 | E14: =C14/1976 -> 32.397448 | F14: =E14/2 -> 16.198724 | G14: =E14/5 -> 6.4794895 | H14: =C14/2080 -> 30.777575
A15: =A14+1 -> 8 | B15: 51485.73 | C15: =B15*$D$3 -> 64017.357 | D15: =B15/12*$D$3 -> 5334.7797 | E15: =C15/1976 -> 32.397448 | F15: =E15/2 -> 16.198724 | G15: =E15/5 -> 6.4794895 | H15: =C15/2080 -> 30.777575
A16: =A15+1 -> 9 | B16: 53345.23 | C16: =B16*$D$3 -> 66329.459 | D16: =B16/12*$D$3 -> 5527.4549 | E16: =C16/1976 -> 33.56754 | F16: =E16/2 -> 16.78377 | G16: =E16/5 -> 6.713508 | H16: =C16/2080 -> 31.889163
A17: =A16+1 -> 10 | B17: 53345.23 | C17: =B17*$D$3 -> 66329.459 | D17: =B17/12*$D$3 -> 5527.4549 | E17: =C17/1976 -> 33.56754 | F17: =E17/2 -> 16.78377 | G17: =E17/5 -> 6.713508 | H17: =C17/2080 -> 31.889163
A18: =A17+1 -> 11 | B18: 55204.69 | C18: =B18*$D$3 -> 68641.512 | D18: =B18/12*$D$3 -> 5720.126 | E18: =C18/1976 -> 34.737607 | F18: =E18/2 -> 17.368804 | G18: =E18/5 -> 6.9475214 | H18: =C18/2080 -> 33.000727
A19: =A18+1 -> 12 | B19: 55204.69 | C19: =B19*$D$3 -> 68641.512 | D19: =B19/12*$D$3 -> 5720.126 | E19: =C19/1976 -> 34.737607 | F19: =E19/2 -> 17.368804 | G19: =E19/5 -> 6.9475214 | H19: =C19/2080 -> 33.000727
... A42: =A41+1 -> 35 | B42: 67280.3 | C42: =B42*$D$3 -> 83656.325 | D42: =B42/12*$D$3 -> 6971.3604 | E42: =C42/1976 -> 42.336197 | F42: =E42/2 -> 21.168098 | G42: =E42/5 -> 8.4672394 | H42: =C42/2080 -> 40.219387

Sheet GS
A1: GS | B1: GENEESHEER SPECIALIST
D2: =Inhoud!B4 -> 46235
C3: coëfficiënt: | D3: =Inhoud!B6 -> 1.2434
B4: JAARLOON | D4: MAANDLOON | E4: UURLOON
B5: 1 | E5: 38u | H5: 40u
B6: ='L4'!$B$6 -> basis 01/01/2022 | C6: =D2 -> 46235 | D6: =C6 -> 46235 | E6: 1 | F6: 0.5 | G6: 0.2
A7: 0 | B7: 58999.41 | C7: =B7*$D$3 -> 73359.866 | D7: =B7/12*$D$3 -> 6113.3222 | E7: =C7/1976 -> 37.125438 | F7: =E7/2 -> 18.562719 | G7: =E7/5 -> 7.4250877 | H7: =C7/2080 -> 35.269167
A8: =A7+1 -> 1 | B8: 58999.41 | C8: =B8*$D$3 -> 73359.866 | D8: =B8/12*$D$3 -> 6113.3222 | E8: =C8/1976 -> 37.125438 | F8: =E8/2 -> 18.562719 | G8: =E8/5 -> 7.4250877 | H8: =C8/2080 -> 35.269167
A9: =A8+1 -> 2 | B9: 61276.36 | C9: =B9*$D$3 -> 76191.026 | D9: =B9/12*$D$3 -> 6349.2522 | E9: =C9/1976 -> 38.558212 | F9: =E9/2 -> 19.279106 | G9: =E9/5 -> 7.7116423 | H9: =C9/2080 -> 36.630301
A10: =A9+1 -> 3 | B10: 61276.36 | C10: =B10*$D$3 -> 76191.026 | D10: =B10/12*$D$3 -> 6349.2522 | E10: =C10/1976 -> 38.558212 | F10: =E10/2 -> 19.279106 | G10: =E10/5 -> 7.7116423 | H10: =C10/2080 -> 36.630301
A11: =A10+1 -> 4 | B11: 63553.29 | C11: =B11*$D$3 -> 79022.161 | D11: =B11/12*$D$3 -> 6585.1801 | E11: =C11/1976 -> 39.990972 | F11: =E11/2 -> 19.995486 | G11: =E11/5 -> 7.9981944 | H11: =C11/2080 -> 37.991423
A12: =A11+1 -> 5 | B12: 63553.29 | C12: =B12*$D$3 -> 79022.161 | D12: =B12/12*$D$3 -> 6585.1801 | E12: =C12/1976 -> 39.990972 | F12: =E12/2 -> 19.995486 | G12: =E12/5 -> 7.9981944 | H12: =C12/2080 -> 37.991423
A13: =A12+1 -> 6 | B13: 65829.69 | C13: =B13*$D$3 -> 81852.637 | D13: =B13/12*$D$3 -> 6821.053 | E13: =C13/1976 -> 41.423399 | F13: =E13/2 -> 20.7117 | G13: =E13/5 -> 8.2846798 | H13: =C13/2080 -> 39.352229
A14: =A13+1 -> 7 | B14: 65829.69 | C14: =B14*$D$3 -> 81852.637 | D14: =B14/12*$D$3 -> 6821.053 | E14: =C14/1976 -> 41.423399 | F14: =E14/2 -> 20.7117 | G14: =E14/5 -> 8.2846798 | H14: =C14/2080 -> 39.352229
A15: =A14+1 -> 8 | B15: 68106.63 | C15: =B15*$D$3 -> 84683.784 | D15: =B15/12*$D$3 -> 7056.982 | E15: =C15/1976 -> 42.856166 | F15: =E15/2 -> 21.428083 | G15: =E15/5 -> 8.5712332 | H15: =C15/2080 -> 40.713358
A16: =A15+1 -> 9 | B16: 68106.63 | C16: =B16*$D$3 -> 84683.784 | D16: =B16/12*$D$3 -> 7056.982 | E16: =C16/1976 -> 42.856166 | F16: =E16/2 -> 21.428083 | G16: =E16/5 -> 8.5712332 | H16: =C16/2080 -> 40.713358
A17: =A16+1 -> 10 | B17: 70383.56 | C17: =B17*$D$3 -> 87514.919 | D17: =B17/12*$D$3 -> 7292.9099 | E17: =C17/1976 -> 44.288926 | F17: =E17/2 -> 22.144463 | G17: =E17/5 -> 8.8577853 | H17: =C17/2080 -> 42.07448
A18: =A17+1 -> 11 | B18: 70383.56 | C18: =B18*$D$3 -> 87514.919 | D18: =B18/12*$D$3 -> 7292.9099 | E18: =C18/1976 -> 44.288926 | F18: =E18/2 -> 22.144463 | G18: =E18/5 -> 8.8577853 | H18: =C18/2080 -> 42.07448
A19: =A18+1 -> 12 | B19: 72660.49 | C19: =B19*$D$3 -> 90346.053 | D19: =B19/12*$D$3 -> 7528.8378 | E19: =C19/1976 -> 45.721687 | F19: =E19/2 -> 22.860843 | G19: =E19/5 -> 9.1443374 | H19: =C19/2080 -> 43.435603
... A42: =A41+1 -> 35 | B42: 85211.73 | C42: =B42*$D$3 -> 105952.27 | D42: =B42/12*$D$3 -> 8829.3554 | E42: =C42/1976 -> 53.619567 | F42: =E42/2 -> 26.809784 | G42: =E42/5 -> 10.723913 | H42: =C42/2080 -> 50.938589

Sheet GEW
A1: GEW | B1: GEWAARBORGD INKOMEN
D2: =Inhoud!B4 -> 46235
C3: coëfficiënt: | D3: =Inhoud!B6 -> 1.2434
B4: JAARLOON | D4: MAANDLOON | E4: UURLOON
B5: 1 | E5: 38u | H5: 40u
B6: ='L4'!$B$6 -> basis 01/01/2022 | C6: =D2 -> 46235 | D6: =C6 -> 46235 | E6: 1 | F6: 0.5 | G6: 0.2
B8: 23133.23 | C8: =B8*$D$3 -> 28763.858 | D8: =B8/12*$D$3 -> 2396.9882 | E8: =C8/1976 -> 14.556608 | F8: =E8/2 -> 7.2783042 | G8: =E8/5 -> 2.9113217 | H8: =C8/2080 -> 13.828778
A13: WEDDESUPPLEMENTEN ZATERDAGPRESTATIES PER UUR
E15: INDEXERING
C16: ='L4'!$B$6 -> basis 01/01/2022 | E16: =D2 -> 46235
C18: 1.6924 | D18: 0.041955632 | E18: =C18*D3 -> 2.1043302 | F18: =+E18/40.3399 -> 0.052164982
