Workbook

Sheet A23
B3: BAREMA | J3: BAREMA DIRECTEUR*
D4: Op 01/01/2003 | J4: 46204
A6: Anc | B6: Jaarbasis | C6: Maandbasis | D6: Geïndex. | E6: 111.64 | F6: 113.87 | G6: 116.15 | H6: 104.14 | K6: Jaarbasis | L6: Maandbasis | M6: Gematigd | N6: 106.22 | O6: 108.34 | P6: 110.51 | Q6: 112.72 | R6: 114.97 | S6: 117.27 | T6: 119.62 | U6: 101.02 | V6: 103.04 | W6: 105.1 | X6: 107.2 | Y6: 109.34 | Z6: 111.53 | AA6: 113.76 | AB6: 116.04 | AC6: 118.36 | AD6: 120.73 | AE6: 123.14 | AF6: 125.6 | AG6: 128.11 | AH6: 130.67 | AI6: 133.28 | AJ6: 100.28
C7: index | D7: maandbarema | K7: index | L7: index | M7: basisjaarloon | N7: Geïndex. | O7: Geïndex. | P7: Geïndex. | Q7: Geïndex. | R7: Geïndex. | S7: Geïndex. | T7: Geïndex. | U7: Geïndex. | V7: Geïndex. | W7: Geïndex. | X7: Geïndex. | Y7: Geïndex. | Z7: Geïndex. | AA7: Geïndex. | AB7: Geïndex. | AC7: Geïndex. | AD7: Geïndex. | AE7: Geïndex. | AF7: Geïndex. | AG7: Geïndex. | AH7: Geïndex. | AI7: Geïndex. | AJ7: Geïndex.
M8: centenindex | N8: maandbarema | O8: maandbarema | P8: maandbarema | Q8: maandbarema | R8: maandbarema | S8: maandbarema | T8: maandbarema | U8: maandbarema | V8: maandbarema | W8: maandbarema | X8: maandbarema | Y8: maandbarema | Z8: maandbarema | AA8: maandbarema | AB8: maandbarema | AC8: maandbarema | AD8: maandbarema | AE8: maandbarema | AF8: maandbarema | AG8: maandbarema | AH8: maandbarema | AI8: maandbarema | AJ8: maandbarema
B9: index | E9: 37803 | F9: 38292 | G9: 38565 | H9: 38991 | N9: 39448 | O9: 39569 | P9: 39692 | Q9: 40422 | R9: 40664 | S9: 40940 | T9: 41244 | U9: 42522 | V9: 42887 | W9: 43344 | X9: 43891 | Y9: 44440 | Z9: 44562 | AA9: 44621 | AB9: 44682 | AC9: 44774 | AD9: 44866 | AE9: 44896 | AF9: 45231 | AG9: 45413 | AH9: 45689 | AI9: 46023 | AJ9: 46204
A10: Anc | B10: 1 | C10: 1 | D10: 1.2936 | E10: 1.3195 | F10: 1.3459 | G10: 1.3728 | H10: 1.4002 | J10: Anciënniteit | K10: 1 | L10: 1 | M10: 1 | N10: 1.4282 | O10: 1.4568 | P10: 1.4859 | Q10: 1.5157 | R10: 1.546 | S10: 1.5769 | T10: 1.6084 | U10: 1.6406 | V10: 1.6734 | W10: 1.7069 | X10: =ROUND(1.02^28,4) -> 1.741 | Y10: =ROUND(1.02^29,4) -> 1.7758 | Z10: =ROUND(1.02^30,4) -> 1.8114 | AA10: =ROUND(1.02^31,4) -> 1.8476 | AB10: =ROUND(1.02^32,4) -> 1.8845 | AC10: =ROUND(1.02^33,4) -> 1.9222 | AD10: =ROUND(1.02^34,4) -> 1.9607 | AE10: =ROUND(1.02^35,4) -> 1.9999 | AF10: =ROUND(1.02^36,4) -> 2.0399 | AG10: =ROUND(1.02^37,4) -> 2.0807 | AH10: =ROUND(1.02^38,4) -> 2.1223 | AI10: =ROUND(1.02^39,4) -> 2.1647 | AJ10: =ROUND(1.02^40,4) -> 2.208
D11: Schaal : 10 E | E11: =+D11 -> Schaal : 10 E | F11: Schaal : 10 E | G11: Schaal : A23 | H11: =+G11 -> Schaal : A23 | K11: Schaal: A23
A12: 24/0 | B12: 28628.37 | C12: =ROUND(B12/12,2) -> 2385.7 | D12: =ROUND($C12*D$10/$C$10,2) -> 3086.14 | E12: =ROUND($C12*E$10/$C$10,2) -> 3147.93 | F12: =ROUND($C12*F$10/$C$10,2) -> 3210.91 | G12: =ROUND($C12*G$10/$C$10,2) -> 3275.09 | H12: =ROUND($C12*H$10/$C$10,2) -> 3340.46 | J12: 24/0 | K12: 31880 | L12: =K12/12 -> 2656.6667 | M12: =ROUND(IF(AI12<4000,K12,(K12*$AI$10+4000*2%*12)/$AJ$10),2) -> 31689.6 | N12: =ROUND($L12*N$10/$L$10,2) -> 3794.25 | O12: =ROUND($L12*O$10/$L$10,2) -> 3870.23 | P12: =ROUND($L12*P$10/$L$10,2) -> 3947.54 | Q12: =ROUND($L12*Q$10/$L$10,2) -> 4026.71 | R12: =ROUND($L12*R$10/$L$10,2) -> 4107.21 | S12: =ROUND($L12*S$10/$L$10,2) -> 4189.3 | T12: =ROUND($L12*T$10/$L$10,2) -> 4272.98 | U12: =ROUND($L12*U$10/$L$10,2) -> 4358.53 | ... AI12: =ROUND($L12*AI$10/$L$10,2) -> 5750.89 | AJ12: =ROUND($M12/12*AJ$10,2) -> 5830.89
A13: 1 | B13: 29252.64 | C13: =ROUND(B13/12,2) -> 2437.72 | D13: =ROUND($C13*D$10/$C$10,2) -> 3153.43 | E13: =ROUND($C13*E$10/$C$10,2) -> 3216.57 | F13: =ROUND($C13*F$10/$C$10,2) -> 3280.93 | G13: =ROUND($C13*G$10/$C$10,2) -> 3346.5 | H13: =ROUND($C13*H$10/$C$10,2) -> 3413.3 | J13: 1 | K13: 32360 | L13: =K13/12 -> 2696.6667 | M13: =ROUND(IF(AI13<4000,K13,(K13*$AI$10+4000*2%*12)/$AJ$10),2) -> 32160.19 | N13: =ROUND($L13*N$10/$L$10,2) -> 3851.38 | O13: =ROUND($L13*O$10/$L$10,2) -> 3928.5 | P13: =ROUND($L13*P$10/$L$10,2) -> 4006.98 | Q13: =ROUND($L13*Q$10/$L$10,2) -> 4087.34 | R13: =ROUND($L13*R$10/$L$10,2) -> 4169.05 | S13: =ROUND($L13*S$10/$L$10,2) -> 4252.37 | T13: =ROUND($L13*T$10/$L$10,2) -> 4337.32 | U13: =ROUND($L13*U$10/$L$10,2) -> 4424.15 | ... AI13: =ROUND($L13*AI$10/$L$10,2) -> 5837.47 | AJ13: =ROUND($M13/12*AJ$10,2) -> 5917.47
A14: 2 | B14: 29876.91 | C14: =ROUND(B14/12,2) -> 2489.74 | D14: =ROUND($C14*D$10/$C$10,2) -> 3220.73 | E14: =ROUND($C14*E$10/$C$10,2) -> 3285.21 | F14: =ROUND($C14*F$10/$C$10,2) -> 3350.94 | G14: =ROUND($C14*G$10/$C$10,2) -> 3417.92 | H14: =ROUND($C14*H$10/$C$10,2) -> 3486.13 | J14: 2 | K14: 32840 | L14: =K14/12 -> 2736.6667 | M14: =ROUND(IF(AI14<4000,K14,(K14*$AI$10+4000*2%*12)/$AJ$10),2) -> 32630.77 | N14: =ROUND($L14*N$10/$L$10,2) -> 3908.51 | O14: =ROUND($L14*O$10/$L$10,2) -> 3986.78 | P14: =ROUND($L14*P$10/$L$10,2) -> 4066.41 | Q14: =ROUND($L14*Q$10/$L$10,2) -> 4147.97 | R14: =ROUND($L14*R$10/$L$10,2) -> 4230.89 | S14: =ROUND($L14*S$10/$L$10,2) -> 4315.45 | T14: =ROUND($L14*T$10/$L$10,2) -> 4401.65 | U14: =ROUND($L14*U$10/$L$10,2) -> 4489.78 | ... AI14: =ROUND($L14*AI$10/$L$10,2) -> 5924.06 | AJ14: =ROUND($M14/12*AJ$10,2) -> 6004.06
A15: 3 | B15: 30501.18 | C15: =ROUND(B15/12,2) -> 2541.77 | D15: =ROUND($C15*D$10/$C$10,2) -> 3288.03 | E15: =ROUND($C15*E$10/$C$10,2) -> 3353.87 | F15: =ROUND($C15*F$10/$C$10,2) -> 3420.97 | G15: =ROUND($C15*G$10/$C$10,2) -> 3489.34 | H15: =ROUND($C15*H$10/$C$10,2) -> 3558.99 | J15: 3 | K15: 33320 | L15: =K15/12 -> 2776.6667 | M15: =ROUND(IF(AI15<4000,K15,(K15*$AI$10+4000*2%*12)/$AJ$10),2) -> 33101.36 | N15: =ROUND($L15*N$10/$L$10,2) -> 3965.64 | O15: =ROUND($L15*O$10/$L$10,2) -> 4045.05 | P15: =ROUND($L15*P$10/$L$10,2) -> 4125.85 | Q15: =ROUND($L15*Q$10/$L$10,2) -> 4208.59 | R15: =ROUND($L15*R$10/$L$10,2) -> 4292.73 | S15: =ROUND($L15*S$10/$L$10,2) -> 4378.53 | T15: =ROUND($L15*T$10/$L$10,2) -> 4465.99 | U15: =ROUND($L15*U$10/$L$10,2) -> 4555.4 | ... AI15: =ROUND($L15*AI$10/$L$10,2) -> 6010.65 | AJ15: =ROUND($M15/12*AJ$10,2) -> 6090.65
A16: 4 | B16: 30501.18 | C16: =ROUND(B16/12,2) -> 2541.77 | D16: =ROUND($C16*D$10/$C$10,2) -> 3288.03 | E16: =ROUND($C16*E$10/$C$10,2) -> 3353.87 | F16: =ROUND($C16*F$10/$C$10,2) -> 3420.97 | G16: =ROUND($C16*G$10/$C$10,2) -> 3489.34 | H16: =ROUND($C16*H$10/$C$10,2) -> 3558.99 | J16: 4 | K16: 33800 | L16: =K16/12 -> 2816.6667 | M16: =ROUND(IF(AI16<4000,K16,(K16*$AI$10+4000*2%*12)/$AJ$10),2) -> 33571.95 | N16: =ROUND($L16*N$10/$L$10,2) -> 4022.76 | O16: =ROUND($L16*O$10/$L$10,2) -> 4103.32 | P16: =ROUND($L16*P$10/$L$10,2) -> 4185.29 | Q16: =ROUND($L16*Q$10/$L$10,2) -> 4269.22 | R16: =ROUND($L16*R$10/$L$10,2) -> 4354.57 | S16: =ROUND($L16*S$10/$L$10,2) -> 4441.6 | T16: =ROUND($L16*T$10/$L$10,2) -> 4530.33 | U16: =ROUND($L16*U$10/$L$10,2) -> 4621.02 | ... AI16: =ROUND($L16*AI$10/$L$10,2) -> 6097.24 | AJ16: =ROUND($M16/12*AJ$10,2) -> 6177.24
A17: 5 | B17: 31593.61 | C17: =ROUND(B17/12,2) -> 2632.8 | D17: =ROUND($C17*D$10/$C$10,2) -> 3405.79 | E17: =ROUND($C17*E$10/$C$10,2) -> 3473.98 | F17: =ROUND($C17*F$10/$C$10,2) -> 3543.49 | G17: =ROUND($C17*G$10/$C$10,2) -> 3614.31 | H17: =ROUND($C17*H$10/$C$10,2) -> 3686.45 | J17: 5 | K17: 34280 | L17: =K17/12 -> 2856.6667 | M17: =ROUND(IF(AI17<4000,K17,(K17*$AI$10+4000*2%*12)/$AJ$10),2) -> 34042.53 | N17: =ROUND($L17*N$10/$L$10,2) -> 4079.89 | O17: =ROUND($L17*O$10/$L$10,2) -> 4161.59 | P17: =ROUND($L17*P$10/$L$10,2) -> 4244.72 | Q17: =ROUND($L17*Q$10/$L$10,2) -> 4329.85 | R17: =ROUND($L17*R$10/$L$10,2) -> 4416.41 | S17: =ROUND($L17*S$10/$L$10,2) -> 4504.68 | T17: =ROUND($L17*T$10/$L$10,2) -> 4594.66 | U17: =ROUND($L17*U$10/$L$10,2) -> 4686.65 | ... AI17: =ROUND($L17*AI$10/$L$10,2) -> 6183.83 | AJ17: =ROUND($M17/12*AJ$10,2) -> 6263.83
A18: 6 | B18: 31593.61 | C18: =ROUND(B18/12,2) -> 2632.8 | D18: =ROUND($C18*D$10/$C$10,2) -> 3405.79 | E18: =ROUND($C18*E$10/$C$10,2) -> 3473.98 | F18: =ROUND($C18*F$10/$C$10,2) -> 3543.49 | G18: =ROUND($C18*G$10/$C$10,2) -> 3614.31 | H18: =ROUND($C18*H$10/$C$10,2) -> 3686.45 | J18: 6 | K18: 34760 | L18: =K18/12 -> 2896.6667 | M18: =ROUND(IF(AI18<4000,K18,(K18*$AI$10+4000*2%*12)/$AJ$10),2) -> 34513.12 | N18: =ROUND($L18*N$10/$L$10,2) -> 4137.02 | O18: =ROUND($L18*O$10/$L$10,2) -> 4219.86 | P18: =ROUND($L18*P$10/$L$10,2) -> 4304.16 | Q18: =ROUND($L18*Q$10/$L$10,2) -> 4390.48 | R18: =ROUND($L18*R$10/$L$10,2) -> 4478.25 | S18: =ROUND($L18*S$10/$L$10,2) -> 4567.75 | T18: =ROUND($L18*T$10/$L$10,2) -> 4659 | U18: =ROUND($L18*U$10/$L$10,2) -> 4752.27 | ... AI18: =ROUND($L18*AI$10/$L$10,2) -> 6270.41 | AJ18: =ROUND($M18/12*AJ$10,2) -> 6350.41
A19: 7 | B19: 32686.04 | C19: =ROUND(B19/12,2) -> 2723.84 | D19: =ROUND($C19*D$10/$C$10,2) -> 3523.56 | E19: =ROUND($C19*E$10/$C$10,2) -> 3594.11 | F19: =ROUND($C19*F$10/$C$10,2) -> 3666.02 | G19: =ROUND($C19*G$10/$C$10,2) -> 3739.29 | H19: =ROUND($C19*H$10/$C$10,2) -> 3813.92 | J19: 7 | K19: 35240 | L19: =K19/12 -> 2936.6667 | M19: =ROUND(IF(AI19<4000,K19,(K19*$AI$10+4000*2%*12)/$AJ$10),2) -> 34983.71 | N19: =ROUND($L19*N$10/$L$10,2) -> 4194.15 | O19: =ROUND($L19*O$10/$L$10,2) -> 4278.14 | P19: =ROUND($L19*P$10/$L$10,2) -> 4363.59 | Q19: =ROUND($L19*Q$10/$L$10,2) -> 4451.11 | R19: =ROUND($L19*R$10/$L$10,2) -> 4540.09 | S19: =ROUND($L19*S$10/$L$10,2) -> 4630.83 | T19: =ROUND($L19*T$10/$L$10,2) -> 4723.33 | U19: =ROUND($L19*U$10/$L$10,2) -> 4817.9 | ... AI19: =ROUND($L19*AI$10/$L$10,2) -> 6357 | AJ19: =ROUND($M19/12*AJ$10,2) -> 6437
A20: 8 | B20: 32686.04 | C20: =ROUND(B20/12,2) -> 2723.84 | D20: =ROUND($C20*D$10/$C$10,2) -> 3523.56 | E20: =ROUND($C20*E$10/$C$10,2) -> 3594.11 | F20: =ROUND($C20*F$10/$C$10,2) -> 3666.02 | G20: =ROUND($C20*G$10/$C$10,2) -> 3739.29 | H20: =ROUND($C20*H$10/$C$10,2) -> 3813.92 | J20: 8 | K20: 35720 | L20: =K20/12 -> 2976.6667 | M20: =ROUND(IF(AI20<4000,K20,(K20*$AI$10+4000*2%*12)/$AJ$10),2) -> 35454.3 | N20: =ROUND($L20*N$10/$L$10,2) -> 4251.28 | O20: =ROUND($L20*O$10/$L$10,2) -> 4336.41 | P20: =ROUND($L20*P$10/$L$10,2) -> 4423.03 | Q20: =ROUND($L20*Q$10/$L$10,2) -> 4511.73 | R20: =ROUND($L20*R$10/$L$10,2) -> 4601.93 | S20: =ROUND($L20*S$10/$L$10,2) -> 4693.91 | T20: =ROUND($L20*T$10/$L$10,2) -> 4787.67 | U20: =ROUND($L20*U$10/$L$10,2) -> 4883.52 | ... AI20: =ROUND($L20*AI$10/$L$10,2) -> 6443.59 | AJ20: =ROUND($M20/12*AJ$10,2) -> 6523.59
A21: 9 | B21: 33778.47 | C21: =ROUND(B21/12,2) -> 2814.87 | D21: =ROUND($C21*D$10/$C$10,2) -> 3641.32 | E21: =ROUND($C21*E$10/$C$10,2) -> 3714.22 | F21: =ROUND($C21*F$10/$C$10,2) -> 3788.53 | G21: =ROUND($C21*G$10/$C$10,2) -> 3864.25 | H21: =ROUND($C21*H$10/$C$10,2) -> 3941.38 | J21: 9 | K21: 36200 | L21: =K21/12 -> 3016.6667 | M21: =ROUND(IF(AI21<4000,K21,(K21*$AI$10+4000*2%*12)/$AJ$10),2) -> 35924.88 | N21: =ROUND($L21*N$10/$L$10,2) -> 4308.4 | O21: =ROUND($L21*O$10/$L$10,2) -> 4394.68 | P21: =ROUND($L21*P$10/$L$10,2) -> 4482.47 | Q21: =ROUND($L21*Q$10/$L$10,2) -> 4572.36 | R21: =ROUND($L21*R$10/$L$10,2) -> 4663.77 | S21: =ROUND($L21*S$10/$L$10,2) -> 4756.98 | T21: =ROUND($L21*T$10/$L$10,2) -> 4852.01 | U21: =ROUND($L21*U$10/$L$10,2) -> 4949.14 | ... AI21: =ROUND($L21*AI$10/$L$10,2) -> 6530.18 | AJ21: =ROUND($M21/12*AJ$10,2) -> 6610.18
A22: 10 | B22: 33778.47 | C22: =ROUND(B22/12,2) -> 2814.87 | D22: =ROUND($C22*D$10/$C$10,2) -> 3641.32 | E22: =ROUND($C22*E$10/$C$10,2) -> 3714.22 | F22: =ROUND($C22*F$10/$C$10,2) -> 3788.53 | G22: =ROUND($C22*G$10/$C$10,2) -> 3864.25 | H22: =ROUND($C22*H$10/$C$10,2) -> 3941.38 | J22: 10 | K22: 36680 | L22: =K22/12 -> 3056.6667 | M22: =ROUND(IF(AI22<4000,K22,(K22*$AI$10+4000*2%*12)/$AJ$10),2) -> 36395.47 | N22: =ROUND($L22*N$10/$L$10,2) -> 4365.53 | O22: =ROUND($L22*O$10/$L$10,2) -> 4452.95 | P22: =ROUND($L22*P$10/$L$10,2) -> 4541.9 | Q22: =ROUND($L22*Q$10/$L$10,2) -> 4632.99 | R22: =ROUND($L22*R$10/$L$10,2) -> 4725.61 | S22: =ROUND($L22*S$10/$L$10,2) -> 4820.06 | T22: =ROUND($L22*T$10/$L$10,2) -> 4916.34 | U22: =ROUND($L22*U$10/$L$10,2) -> 5014.77 | ... AI22: =ROUND($L22*AI$10/$L$10,2) -> 6616.77 | AJ22: =ROUND($M22/12*AJ$10,2) -> 6696.77
A23: 11 | B23: 34870.9 | C23: =ROUND(B23/12,2) -> 2905.91 | D23: =ROUND($C23*D$10/$C$10,2) -> 3759.09 | E23: =ROUND($C23*E$10/$C$10,2) -> 3834.35 | F23: =ROUND($C23*F$10/$C$10,2) -> 3911.06 | G23: =ROUND($C23*G$10/$C$10,2) -> 3989.23 | H23: =ROUND($C23*H$10/$C$10,2) -> 4068.86 | J23: 11 | K23: 37160 | L23: =K23/12 -> 3096.6667 | M23: =ROUND(IF(AI23<4000,K23,(K23*$AI$10+4000*2%*12)/$AJ$10),2) -> 36866.06 | N23: =ROUND($L23*N$10/$L$10,2) -> 4422.66 | O23: =ROUND($L23*O$10/$L$10,2) -> 4511.22 | P23: =ROUND($L23*P$10/$L$10,2) -> 4601.34 | Q23: =ROUND($L23*Q$10/$L$10,2) -> 4693.62 | R23: =ROUND($L23*R$10/$L$10,2) -> 4787.45 | S23: =ROUND($L23*S$10/$L$10,2) -> 4883.13 | T23: =ROUND($L23*T$10/$L$10,2) -> 4980.68 | U23: =ROUND($L23*U$10/$L$10,2) -> 5080.39 | ... AI23: =ROUND($L23*AI$10/$L$10,2) -> 6703.35 | AJ23: =ROUND($M23/12*AJ$10,2) -> 6783.36
A24: 12 | B24: 34870.9 | C24: =ROUND(B24/12,2) -> 2905.91 | D24: =ROUND($C24*D$10/$C$10,2) -> 3759.09 | E24: =ROUND($C24*E$10/$C$10,2) -> 3834.35 | F24: =ROUND($C24*F$10/$C$10,2) -> 3911.06 | G24: =ROUND($C24*G$10/$C$10,2) -> 3989.23 | H24: =ROUND($C24*H$10/$C$10,2) -> 4068.86 | J24: 12 | K24: 37640 | L24: =K24/12 -> 3136.6667 | M24: =ROUND(IF(AI24<4000,K24,(K24*$AI$10+4000*2%*12)/$AJ$10),2) -> 37336.64 | N24: =ROUND($L24*N$10/$L$10,2) -> 4479.79 | O24: =ROUND($L24*O$10/$L$10,2) -> 4569.5 | P24: =ROUND($L24*P$10/$L$10,2) -> 4660.77 | Q24: =ROUND($L24*Q$10/$L$10,2) -> 4754.25 | R24: =ROUND($L24*R$10/$L$10,2) -> 4849.29 | S24: =ROUND($L24*S$10/$L$10,2) -> 4946.21 | T24: =ROUND($L24*T$10/$L$10,2) -> 5045.01 | U24: =ROUND($L24*U$10/$L$10,2) -> 5146.02 | ... AI24: =ROUND($L24*AI$10/$L$10,2) -> 6789.94 | AJ24: =ROUND($M24/12*AJ$10,2) -> 6869.94
... A35: 23 | B35: 40333.05 | C35: =ROUND(B35/12,2) -> 3361.09 | D35: =ROUND($C35*D$10/$C$10,2) -> 4347.91 | E35: =ROUND($C35*E$10/$C$10,2) -> 4434.96 | F35: =ROUND($C35*F$10/$C$10,2) -> 4523.69 | G35: =ROUND($C35*G$10/$C$10,2) -> 4614.1 | H35: =ROUND($C35*H$10/$C$10,2) -> 4706.2 | J35: 23 | K35: 42920 | L35: =K35/12 -> 3576.6667 | M35: =ROUND(IF(AI35<4000,K35,(K35*$AI$10+4000*2%*12)/$AJ$10),2) -> 42513.1 | N35: =ROUND($L35*N$10/$L$10,2) -> 5108.2 | O35: =ROUND($L35*O$10/$L$10,2) -> 5210.49 | P35: =ROUND($L35*P$10/$L$10,2) -> 5314.57 | Q35: =ROUND($L35*Q$10/$L$10,2) -> 5421.15 | R35: =ROUND($L35*R$10/$L$10,2) -> 5529.53 | S35: =ROUND($L35*S$10/$L$10,2) -> 5640.05 | T35: =ROUND($L35*T$10/$L$10,2) -> 5752.71 | U35: =ROUND($L35*U$10/$L$10,2) -> 5867.88 | ... AI35: =ROUND($L35*AI$10/$L$10,2) -> 7742.41 | AJ35: =ROUND($M35/12*AJ$10,2) -> 7822.41
A36: =+A35+1 -> 24 | B36: 40333.05 | C36: =ROUND(B36/12,2) -> 3361.09 | D36: =ROUND($C36*D$10/$C$10,2) -> 4347.91 | E36: =ROUND($C36*E$10/$C$10,2) -> 4434.96 | F36: =ROUND($C36*F$10/$C$10,2) -> 4523.69 | G36: =ROUND($C36*G$10/$C$10,2) -> 4614.1 | H36: =ROUND($C36*H$10/$C$10,2) -> 4706.2 | J36: =+J35+1 -> 24 | K36: 43400 | L36: =K36/12 -> 3616.6667 | M36: =ROUND(IF(AI36<4000,K36,(K36*$AI$10+4000*2%*12)/$AJ$10),2) -> 42983.69 | N36: =ROUND($L36*N$10/$L$10,2) -> 5165.32 | O36: =ROUND($L36*O$10/$L$10,2) -> 5268.76 | P36: =ROUND($L36*P$10/$L$10,2) -> 5374.01 | Q36: =ROUND($L36*Q$10/$L$10,2) -> 5481.78 | R36: =ROUND($L36*R$10/$L$10,2) -> 5591.37 | S36: =ROUND($L36*S$10/$L$10,2) -> 5703.12 | T36: =ROUND($L36*T$10/$L$10,2) -> 5817.05 | U36: =ROUND($L36*U$10/$L$10,2) -> 5933.5 | ... AI36: =ROUND($L36*AI$10/$L$10,2) -> 7829 | AJ36: =ROUND($M36/12*AJ$10,2) -> 7909
A37: =+A36+1 -> 25 | B37: 40333.05 | C37: =ROUND(B37/12,2) -> 3361.09 | D37: =ROUND($C37*D$10/$C$10,2) -> 4347.91 | E37: =ROUND($C37*E$10/$C$10,2) -> 4434.96 | F37: =ROUND($C37*F$10/$C$10,2) -> 4523.69 | G37: =ROUND($C37*G$10/$C$10,2) -> 4614.1 | H37: =ROUND($C37*H$10/$C$10,2) -> 4706.2 | J37: =+J36+1 -> 25 | K37: 43880 | L37: =K37/12 -> 3656.6667 | M37: =ROUND(IF(AI37<4000,K37,(K37*$AI$10+4000*2%*12)/$AJ$10),2) -> 43454.27 | N37: =ROUND($L37*N$10/$L$10,2) -> 5222.45 | O37: =ROUND($L37*O$10/$L$10,2) -> 5327.03 | P37: =ROUND($L37*P$10/$L$10,2) -> 5433.44 | Q37: =ROUND($L37*Q$10/$L$10,2) -> 5542.41 | R37: =ROUND($L37*R$10/$L$10,2) -> 5653.21 | S37: =ROUND($L37*S$10/$L$10,2) -> 5766.2 | T37: =ROUND($L37*T$10/$L$10,2) -> 5881.38 | U37: =ROUND($L37*U$10/$L$10,2) -> 5999.13 | ... AI37: =ROUND($L37*AI$10/$L$10,2) -> 7915.59 | AJ37: =ROUND($M37/12*AJ$10,2) -> 7995.59
A38: 26 | B38: 40334.05 | C38: 3361.09 | D38: =ROUND($C38*D$10/$C$10,2) -> 4347.91 | E38: =ROUND($C38*E$10/$C$10,2) -> 4434.96 | F38: =ROUND($C38*F$10/$C$10,2) -> 4523.69 | G38: =ROUND($C38*G$10/$C$10,2) -> 4614.1 | H38: =ROUND($C38*H$10/$C$10,2) -> 4706.2 | J38: 26 | K38: 44360 | L38: =K38/12 -> 3696.6667 | M38: =ROUND(IF(AI38<4000,K38,(K38*$AI$10+4000*2%*12)/$AJ$10),2) -> 43924.86 | N38: =ROUND($L38*N$10/$L$10,2) -> 5279.58 | O38: =ROUND($L38*O$10/$L$10,2) -> 5385.3 | P38: =ROUND($L38*P$10/$L$10,2) -> 5492.88 | Q38: =ROUND($L38*Q$10/$L$10,2) -> 5603.04 | R38: =ROUND($L38*R$10/$L$10,2) -> 5715.05 | S38: =ROUND($L38*S$10/$L$10,2) -> 5829.27 | T38: =ROUND($L38*T$10/$L$10,2) -> 5945.72 | U38: =ROUND($L38*U$10/$L$10,2) -> 6064.75 | ... AI38: =ROUND($L38*AI$10/$L$10,2) -> 8002.17 | AJ38: =ROUND($M38/12*AJ$10,2) -> 8082.17
J40: * Voor directeurs met minder dan 9 jaar anciënniteit als directeur in een geconventioneerde inrichting.

Sheet A31
B3: BAREMA | K3: BAREMA DIRECTEUR*
D4: Op 01/01/2003 | K4: ='A23'!J4 -> 46204
A6: Anc | B6: Jaarbasis | C6: Maandbasis | D6: Geïndex. | E6: 111.64 | F6: 113.87 | G6: 116.15 | H6: 104.14 | I6: 106.22 | L6: Jaarbasis | M6: Maandbasis | N6: Gematigd | O6: 106.22 | P6: 108.34 | Q6: 110.51 | R6: 112.72 | S6: 114.97 | T6: 117.27 | U6: 119.62 | V6: 101.02 | W6: 103.04 | X6: 105.1 | Y6: 107.2 | Z6: 109.34 | AA6: 111.53 | AB6: ='A23'!AA6 -> 113.76 | AC6: ='A23'!AB6 -> 116.04 | AD6: ='A23'!AC6 -> 118.36 | AE6: ='A23'!AD6 -> 120.73 | AF6: ='A23'!AE6 -> 123.14 | AG6: ='A23'!AF6 -> 125.6 | AH6: ='A23'!AG6 -> 128.11 | AI6: ='A23'!AH6 -> 130.67 | ... AK6: ='A23'!AJ6 -> 100.28
C7: index | D7: maandbarema | L7: index | M7: index | N7: basisjaarloon | O7: Geïndex. | P7: Geïndex. | Q7: Geïndex. | R7: Geïndex. | S7: Geïndex. | T7: Geïndex. | U7: Geïndex. | V7: Geïndex. | W7: Geïndex. | X7: Geïndex. | Y7: Geïndex. | Z7: Geïndex. | AA7: Geïndex. | AB7: Geïndex. | AC7: Geïndex. | AD7: Geïndex. | AE7: Geïndex. | AF7: Geïndex. | AG7: Geïndex. | AH7: Geïndex. | AI7: Geïndex. | AJ7: Geïndex. | AK7: Geïndex.
N8: centenindex | O8: maandbarema | P8: maandbarema | Q8: maandbarema | R8: maandbarema | S8: maandbarema | T8: maandbarema | U8: maandbarema | V8: maandbarema | W8: maandbarema | X8: maandbarema | Y8: maandbarema | Z8: maandbarema | AA8: maandbarema | AB8: maandbarema | AC8: maandbarema | AD8: maandbarema | AE8: maandbarema | AF8: maandbarema | AG8: maandbarema | AH8: maandbarema | AI8: maandbarema | AJ8: maandbarema | AK8: maandbarema
B9: index | E9: 37803 | F9: 38292 | G9: 38565 | H9: 38991 | I9: 39448 | O9: 39448 | P9: 39569 | Q9: 39692 | R9: 40422 | S9: 40664 | T9: 40940 | U9: 41244 | V9: 42522 | W9: ='A23'!V9 -> 42887 | X9: ='A23'!W9 -> 43344 | Y9: ='A23'!X9 -> 43891 | Z9: ='A23'!Y9 -> 44440 | AA9: ='A23'!Z9 -> 44562 | AB9: ='A23'!AA9 -> 44621 | AC9: ='A23'!AB9 -> 44682 | AD9: ='A23'!AC9 -> 44774 | ... AK9: ='A23'!AJ9 -> 46204
A10: Anc | B10: 1 | C10: 1 | D10: 1.2936 | E10: 1.3195 | F10: 1.3459 | G10: 1.3728 | H10: 1.4002 | I10: 1.4282 | K10: Anciënniteit | L10: 1 | M10: 1 | O10: 1.4282 | P10: 1.4568 | Q10: 1.4859 | R10: 1.5157 | S10: 1.546 | T10: 1.5769 | U10: 1.6084 | V10: 1.6406 | W10: ='A23'!V10 -> 1.6734 | X10: ='A23'!W10 -> 1.7069 | Y10: ='A23'!X10 -> 1.741 | Z10: ='A23'!Y10 -> 1.7758 | AA10: ='A23'!Z10 -> 1.8114 | AB10: ='A23'!AA10 -> 1.8476 | AC10: ='A23'!AB10 -> 1.8845 | AD10: ='A23'!AC10 -> 1.9222 | ... AK10: ='A23'!AJ10 -> 2.208
D11: Schaal : 13A | E11: =+D11 -> Schaal : 13A | F11: =+E11 -> Schaal : 13A | G11: Schaal : A31 | H11: =+G11 -> Schaal : A31 | I11: Schaal : A31 | L11: Schaal: A31
A12: 24/0 | B12: 27923.8 | C12: =ROUND(B12/12,2) -> 2326.98 | D12: =ROUND($C12*D$10/$C$10,2) -> 3010.18 | E12: =ROUND($C12*E$10/$C$10,2) -> 3070.45 | F12: =ROUND($C12*F$10/$C$10,2) -> 3131.88 | G12: =ROUND($C12*G$10/$C$10,2) -> 3194.48 | H12: =ROUND($C12*H$10/$C$10,2) -> 3258.24 | I12: =ROUND($C12*I$10/$C$10,2) -> 3323.39 | K12: 24/0 | L12: 32380 | M12: =L12/12 -> 2698.3333 | N12: =ROUND(IF(AJ12<4000,L12,(L12*$AJ$10+4000*2%*12)/$AK$10),2) -> 32179.79 | O12: =ROUND($M12*O$10/$M$10,2) -> 3853.76 | P12: =ROUND($M12*P$10/$M$10,2) -> 3930.93 | Q12: =ROUND($M12*Q$10/$M$10,2) -> 4009.45 | R12: =ROUND($M12*R$10/$M$10,2) -> 4089.86 | S12: =ROUND($M12*S$10/$M$10,2) -> 4171.62 | T12: =ROUND($M12*T$10/$M$10,2) -> 4255 | U12: =ROUND($M12*U$10/$M$10,2) -> 4340 | V12: =ROUND($M12*V$10/$M$10,2) -> 4426.89 | ... AJ12: =ROUND($M12*AJ$10/$M$10,2) -> 5841.08 | AK12: =ROUND($N12/12*AK$10,2) -> 5921.08
A13: 1 | B13: 27923.8 | C13: =ROUND(B13/12,2) -> 2326.98 | D13: =ROUND($C13*D$10/$C$10,2) -> 3010.18 | E13: =ROUND($C13*E$10/$C$10,2) -> 3070.45 | F13: =ROUND($C13*F$10/$C$10,2) -> 3131.88 | G13: =ROUND($C13*G$10/$C$10,2) -> 3194.48 | H13: =ROUND($C13*H$10/$C$10,2) -> 3258.24 | I13: =ROUND($C13*I$10/$C$10,2) -> 3323.39 | K13: 1 | L13: 32900 | M13: =L13/12 -> 2741.6667 | N13: =ROUND(IF(AJ13<4000,L13,(L13*$AJ$10+4000*2%*12)/$AK$10),2) -> 32689.6 | O13: =ROUND($M13*O$10/$M$10,2) -> 3915.65 | P13: =ROUND($M13*P$10/$M$10,2) -> 3994.06 | Q13: =ROUND($M13*Q$10/$M$10,2) -> 4073.84 | R13: =ROUND($M13*R$10/$M$10,2) -> 4155.54 | S13: =ROUND($M13*S$10/$M$10,2) -> 4238.62 | T13: =ROUND($M13*T$10/$M$10,2) -> 4323.33 | U13: =ROUND($M13*U$10/$M$10,2) -> 4409.7 | V13: =ROUND($M13*V$10/$M$10,2) -> 4497.98 | ... AJ13: =ROUND($M13*AJ$10/$M$10,2) -> 5934.89 | AK13: =ROUND($N13/12*AK$10,2) -> 6014.89
A14: 2 | B14: 29261.53 | C14: =ROUND(B14/12,2) -> 2438.46 | D14: =ROUND($C14*D$10/$C$10,2) -> 3154.39 | E14: =ROUND($C14*E$10/$C$10,2) -> 3217.55 | F14: =ROUND($C14*F$10/$C$10,2) -> 3281.92 | G14: =ROUND($C14*G$10/$C$10,2) -> 3347.52 | H14: =ROUND($C14*H$10/$C$10,2) -> 3414.33 | I14: =ROUND($C14*I$10/$C$10,2) -> 3482.61 | K14: 2 | L14: 33420 | M14: =L14/12 -> 2785 | N14: =ROUND(IF(AJ14<4000,L14,(L14*$AJ$10+4000*2%*12)/$AK$10),2) -> 33199.4 | O14: =ROUND($M14*O$10/$M$10,2) -> 3977.54 | P14: =ROUND($M14*P$10/$M$10,2) -> 4057.19 | Q14: =ROUND($M14*Q$10/$M$10,2) -> 4138.23 | R14: =ROUND($M14*R$10/$M$10,2) -> 4221.22 | S14: =ROUND($M14*S$10/$M$10,2) -> 4305.61 | T14: =ROUND($M14*T$10/$M$10,2) -> 4391.67 | U14: =ROUND($M14*U$10/$M$10,2) -> 4479.39 | V14: =ROUND($M14*V$10/$M$10,2) -> 4569.07 | ... AJ14: =ROUND($M14*AJ$10/$M$10,2) -> 6028.69 | AK14: =ROUND($N14/12*AK$10,2) -> 6108.69
A15: 3 | B15: 29261.53 | C15: =ROUND(B15/12,2) -> 2438.46 | D15: =ROUND($C15*D$10/$C$10,2) -> 3154.39 | E15: =ROUND($C15*E$10/$C$10,2) -> 3217.55 | F15: =ROUND($C15*F$10/$C$10,2) -> 3281.92 | G15: =ROUND($C15*G$10/$C$10,2) -> 3347.52 | H15: =ROUND($C15*H$10/$C$10,2) -> 3414.33 | I15: =ROUND($C15*I$10/$C$10,2) -> 3482.61 | K15: 3 | L15: 33940 | M15: =L15/12 -> 2828.3333 | N15: =ROUND(IF(AJ15<4000,L15,(L15*$AJ$10+4000*2%*12)/$AK$10),2) -> 33709.2 | O15: =ROUND($M15*O$10/$M$10,2) -> 4039.43 | P15: =ROUND($M15*P$10/$M$10,2) -> 4120.32 | Q15: =ROUND($M15*Q$10/$M$10,2) -> 4202.62 | R15: =ROUND($M15*R$10/$M$10,2) -> 4286.9 | S15: =ROUND($M15*S$10/$M$10,2) -> 4372.6 | T15: =ROUND($M15*T$10/$M$10,2) -> 4460 | U15: =ROUND($M15*U$10/$M$10,2) -> 4549.09 | V15: =ROUND($M15*V$10/$M$10,2) -> 4640.16 | ... AJ15: =ROUND($M15*AJ$10/$M$10,2) -> 6122.49 | AK15: =ROUND($N15/12*AK$10,2) -> 6202.49
A16: 4 | B16: 30599.26 | C16: =ROUND(B16/12,2) -> 2549.94 | D16: =ROUND($C16*D$10/$C$10,2) -> 3298.6 | E16: =ROUND($C16*E$10/$C$10,2) -> 3364.65 | F16: =ROUND($C16*F$10/$C$10,2) -> 3431.96 | G16: =ROUND($C16*G$10/$C$10,2) -> 3500.56 | H16: =ROUND($C16*H$10/$C$10,2) -> 3570.43 | I16: =ROUND($C16*I$10/$C$10,2) -> 3641.82 | K16: 4 | L16: 34460 | M16: =L16/12 -> 2871.6667 | N16: =ROUND(IF(AJ16<4000,L16,(L16*$AJ$10+4000*2%*12)/$AK$10),2) -> 34219 | O16: =ROUND($M16*O$10/$M$10,2) -> 4101.31 | P16: =ROUND($M16*P$10/$M$10,2) -> 4183.44 | Q16: =ROUND($M16*Q$10/$M$10,2) -> 4267.01 | R16: =ROUND($M16*R$10/$M$10,2) -> 4352.59 | S16: =ROUND($M16*S$10/$M$10,2) -> 4439.6 | T16: =ROUND($M16*T$10/$M$10,2) -> 4528.33 | U16: =ROUND($M16*U$10/$M$10,2) -> 4618.79 | V16: =ROUND($M16*V$10/$M$10,2) -> 4711.26 | ... AJ16: =ROUND($M16*AJ$10/$M$10,2) -> 6216.3 | AK16: =ROUND($N16/12*AK$10,2) -> 6296.3
A17: 5 | B17: 30599.26 | C17: =ROUND(B17/12,2) -> 2549.94 | D17: =ROUND($C17*D$10/$C$10,2) -> 3298.6 | E17: =ROUND($C17*E$10/$C$10,2) -> 3364.65 | F17: =ROUND($C17*F$10/$C$10,2) -> 3431.96 | G17: =ROUND($C17*G$10/$C$10,2) -> 3500.56 | H17: =ROUND($C17*H$10/$C$10,2) -> 3570.43 | I17: =ROUND($C17*I$10/$C$10,2) -> 3641.82 | K17: 5 | L17: 34980 | M17: =L17/12 -> 2915 | N17: =ROUND(IF(AJ17<4000,L17,(L17*$AJ$10+4000*2%*12)/$AK$10),2) -> 34728.81 | O17: =ROUND($M17*O$10/$M$10,2) -> 4163.2 | P17: =ROUND($M17*P$10/$M$10,2) -> 4246.57 | Q17: =ROUND($M17*Q$10/$M$10,2) -> 4331.4 | R17: =ROUND($M17*R$10/$M$10,2) -> 4418.27 | S17: =ROUND($M17*S$10/$M$10,2) -> 4506.59 | T17: =ROUND($M17*T$10/$M$10,2) -> 4596.66 | U17: =ROUND($M17*U$10/$M$10,2) -> 4688.49 | V17: =ROUND($M17*V$10/$M$10,2) -> 4782.35 | ... AJ17: =ROUND($M17*AJ$10/$M$10,2) -> 6310.1 | AK17: =ROUND($N17/12*AK$10,2) -> 6390.1
A18: 6 | B18: 31936.99 | C18: =ROUND(B18/12,2) -> 2661.42 | D18: =ROUND($C18*D$10/$C$10,2) -> 3442.81 | E18: =ROUND($C18*E$10/$C$10,2) -> 3511.74 | F18: =ROUND($C18*F$10/$C$10,2) -> 3582.01 | G18: =ROUND($C18*G$10/$C$10,2) -> 3653.6 | H18: =ROUND($C18*H$10/$C$10,2) -> 3726.52 | I18: =ROUND($C18*I$10/$C$10,2) -> 3801.04 | K18: 6 | L18: 35500 | M18: =L18/12 -> 2958.3333 | N18: =ROUND(IF(AJ18<4000,L18,(L18*$AJ$10+4000*2%*12)/$AK$10),2) -> 35238.61 | O18: =ROUND($M18*O$10/$M$10,2) -> 4225.09 | P18: =ROUND($M18*P$10/$M$10,2) -> 4309.7 | Q18: =ROUND($M18*Q$10/$M$10,2) -> 4395.79 | R18: =ROUND($M18*R$10/$M$10,2) -> 4483.95 | S18: =ROUND($M18*S$10/$M$10,2) -> 4573.58 | T18: =ROUND($M18*T$10/$M$10,2) -> 4665 | U18: =ROUND($M18*U$10/$M$10,2) -> 4758.18 | V18: =ROUND($M18*V$10/$M$10,2) -> 4853.44 | ... AJ18: =ROUND($M18*AJ$10/$M$10,2) -> 6403.9 | AK18: =ROUND($N18/12*AK$10,2) -> 6483.9
A19: 7 | B19: 32686.04 | C19: =ROUND(B19/12,2) -> 2723.84 | D19: =ROUND($C19*D$10/$C$10,2) -> 3523.56 | E19: =ROUND($C19*E$10/$C$10,2) -> 3594.11 | F19: =ROUND($C19*F$10/$C$10,2) -> 3666.02 | G19: =ROUND($C19*G$10/$C$10,2) -> 3739.29 | H19: =ROUND($C19*H$10/$C$10,2) -> 3813.92 | I19: =ROUND($C19*I$10/$C$10,2) -> 3890.19 | K19: 7 | L19: 36020 | M19: =L19/12 -> 3001.6667 | N19: =ROUND(IF(AJ19<4000,L19,(L19*$AJ$10+4000*2%*12)/$AK$10),2) -> 35748.41 | O19: =ROUND($M19*O$10/$M$10,2) -> 4286.98 | P19: =ROUND($M19*P$10/$M$10,2) -> 4372.83 | Q19: =ROUND($M19*Q$10/$M$10,2) -> 4460.18 | R19: =ROUND($M19*R$10/$M$10,2) -> 4549.63 | S19: =ROUND($M19*S$10/$M$10,2) -> 4640.58 | T19: =ROUND($M19*T$10/$M$10,2) -> 4733.33 | U19: =ROUND($M19*U$10/$M$10,2) -> 4827.88 | V19: =ROUND($M19*V$10/$M$10,2) -> 4924.53 | ... AJ19: =ROUND($M19*AJ$10/$M$10,2) -> 6497.71 | AK19: =ROUND($N19/12*AK$10,2) -> 6577.71
A20: 8 | B20: 33274.72 | C20: =ROUND(B20/12,2) -> 2772.89 | D20: =ROUND($C20*D$10/$C$10,2) -> 3587.01 | E20: =ROUND($C20*E$10/$C$10,2) -> 3658.83 | F20: =ROUND($C20*F$10/$C$10,2) -> 3732.03 | G20: =ROUND($C20*G$10/$C$10,2) -> 3806.62 | H20: =ROUND($C20*H$10/$C$10,2) -> 3882.6 | I20: =ROUND($C20*I$10/$C$10,2) -> 3960.24 | K20: 8 | L20: 36540 | M20: =L20/12 -> 3045 | N20: =ROUND(IF(AJ20<4000,L20,(L20*$AJ$10+4000*2%*12)/$AK$10),2) -> 36258.21 | O20: =ROUND($M20*O$10/$M$10,2) -> 4348.87 | P20: =ROUND($M20*P$10/$M$10,2) -> 4435.96 | Q20: =ROUND($M20*Q$10/$M$10,2) -> 4524.57 | R20: =ROUND($M20*R$10/$M$10,2) -> 4615.31 | S20: =ROUND($M20*S$10/$M$10,2) -> 4707.57 | T20: =ROUND($M20*T$10/$M$10,2) -> 4801.66 | U20: =ROUND($M20*U$10/$M$10,2) -> 4897.58 | V20: =ROUND($M20*V$10/$M$10,2) -> 4995.63 | ... AJ20: =ROUND($M20*AJ$10/$M$10,2) -> 6591.51 | AK20: =ROUND($N20/12*AK$10,2) -> 6671.51
A21: 9 | B21: 33274.72 | C21: =ROUND(B21/12,2) -> 2772.89 | D21: =ROUND($C21*D$10/$C$10,2) -> 3587.01 | E21: =ROUND($C21*E$10/$C$10,2) -> 3658.83 | F21: =ROUND($C21*F$10/$C$10,2) -> 3732.03 | G21: =ROUND($C21*G$10/$C$10,2) -> 3806.62 | H21: =ROUND($C21*H$10/$C$10,2) -> 3882.6 | I21: =ROUND($C21*I$10/$C$10,2) -> 3960.24 | K21: 9 | L21: 37060 | M21: =L21/12 -> 3088.3333 | N21: =ROUND(IF(AJ21<4000,L21,(L21*$AJ$10+4000*2%*12)/$AK$10),2) -> 36768.02 | O21: =ROUND($M21*O$10/$M$10,2) -> 4410.76 | P21: =ROUND($M21*P$10/$M$10,2) -> 4499.08 | Q21: =ROUND($M21*Q$10/$M$10,2) -> 4588.95 | R21: =ROUND($M21*R$10/$M$10,2) -> 4680.99 | S21: =ROUND($M21*S$10/$M$10,2) -> 4774.56 | T21: =ROUND($M21*T$10/$M$10,2) -> 4869.99 | U21: =ROUND($M21*U$10/$M$10,2) -> 4967.28 | V21: =ROUND($M21*V$10/$M$10,2) -> 5066.72 | ... AJ21: =ROUND($M21*AJ$10/$M$10,2) -> 6685.32 | AK21: =ROUND($N21/12*AK$10,2) -> 6765.32
A22: 10 | B22: 34612.45 | C22: =ROUND(B22/12,2) -> 2884.37 | D22: =ROUND($C22*D$10/$C$10,2) -> 3731.22 | E22: =ROUND($C22*E$10/$C$10,2) -> 3805.93 | F22: =ROUND($C22*F$10/$C$10,2) -> 3882.07 | G22: =ROUND($C22*G$10/$C$10,2) -> 3959.66 | H22: =ROUND($C22*H$10/$C$10,2) -> 4038.69 | I22: =ROUND($C22*I$10/$C$10,2) -> 4119.46 | K22: 10 | L22: 37580 | M22: =L22/12 -> 3131.6667 | N22: =ROUND(IF(AJ22<4000,L22,(L22*$AJ$10+4000*2%*12)/$AK$10),2) -> 37277.82 | O22: =ROUND($M22*O$10/$M$10,2) -> 4472.65 | P22: =ROUND($M22*P$10/$M$10,2) -> 4562.21 | Q22: =ROUND($M22*Q$10/$M$10,2) -> 4653.34 | R22: =ROUND($M22*R$10/$M$10,2) -> 4746.67 | S22: =ROUND($M22*S$10/$M$10,2) -> 4841.56 | T22: =ROUND($M22*T$10/$M$10,2) -> 4938.33 | U22: =ROUND($M22*U$10/$M$10,2) -> 5036.97 | V22: =ROUND($M22*V$10/$M$10,2) -> 5137.81 | ... AJ22: =ROUND($M22*AJ$10/$M$10,2) -> 6779.12 | AK22: =ROUND($N22/12*AK$10,2) -> 6859.12
A23: 11 | B23: 34612.45 | C23: =ROUND(B23/12,2) -> 2884.37 | D23: =ROUND($C23*D$10/$C$10,2) -> 3731.22 | E23: =ROUND($C23*E$10/$C$10,2) -> 3805.93 | F23: =ROUND($C23*F$10/$C$10,2) -> 3882.07 | G23: =ROUND($C23*G$10/$C$10,2) -> 3959.66 | H23: =ROUND($C23*H$10/$C$10,2) -> 4038.69 | I23: =ROUND($C23*I$10/$C$10,2) -> 4119.46 | K23: 11 | L23: 38100 | M23: =L23/12 -> 3175 | N23: =ROUND(IF(AJ23<4000,L23,(L23*$AJ$10+4000*2%*12)/$AK$10),2) -> 37787.62 | O23: =ROUND($M23*O$10/$M$10,2) -> 4534.54 | P23: =ROUND($M23*P$10/$M$10,2) -> 4625.34 | Q23: =ROUND($M23*Q$10/$M$10,2) -> 4717.73 | R23: =ROUND($M23*R$10/$M$10,2) -> 4812.35 | S23: =ROUND($M23*S$10/$M$10,2) -> 4908.55 | T23: =ROUND($M23*T$10/$M$10,2) -> 5006.66 | U23: =ROUND($M23*U$10/$M$10,2) -> 5106.67 | V23: =ROUND($M23*V$10/$M$10,2) -> 5208.91 | ... AJ23: =ROUND($M23*AJ$10/$M$10,2) -> 6872.92 | AK23: =ROUND($N23/12*AK$10,2) -> 6952.92
A24: 12 | B24: 35950.18 | C24: =ROUND(B24/12,2) -> 2995.85 | D24: =ROUND($C24*D$10/$C$10,2) -> 3875.43 | E24: =ROUND($C24*E$10/$C$10,2) -> 3953.02 | F24: =ROUND($C24*F$10/$C$10,2) -> 4032.11 | G24: =ROUND($C24*G$10/$C$10,2) -> 4112.7 | H24: =ROUND($C24*H$10/$C$10,2) -> 4194.79 | I24: =ROUND($C24*I$10/$C$10,2) -> 4278.67 | K24: 12 | L24: 38620 | M24: =L24/12 -> 3218.3333 | N24: =ROUND(IF(AJ24<4000,L24,(L24*$AJ$10+4000*2%*12)/$AK$10),2) -> 38297.42 | O24: =ROUND($M24*O$10/$M$10,2) -> 4596.42 | P24: =ROUND($M24*P$10/$M$10,2) -> 4688.47 | Q24: =ROUND($M24*Q$10/$M$10,2) -> 4782.12 | R24: =ROUND($M24*R$10/$M$10,2) -> 4878.03 | S24: =ROUND($M24*S$10/$M$10,2) -> 4975.54 | T24: =ROUND($M24*T$10/$M$10,2) -> 5074.99 | U24: =ROUND($M24*U$10/$M$10,2) -> 5176.37 | V24: =ROUND($M24*V$10/$M$10,2) -> 5280 | ... AJ24: =ROUND($M24*AJ$10/$M$10,2) -> 6966.73 | AK24: =ROUND($N24/12*AK$10,2) -> 7046.73
... A34: 22 | B34: 42638.83 | C34: =ROUND(B34/12,2) -> 3553.24 | D34: =ROUND($C34*D$10/$C$10,2) -> 4596.47 | E34: =ROUND($C34*E$10/$C$10,2) -> 4688.5 | F34: =ROUND($C34*F$10/$C$10,2) -> 4782.31 | G34: =ROUND($C34*G$10/$C$10,2) -> 4877.89 | H34: =ROUND($C34*H$10/$C$10,2) -> 4975.25 | I34: =ROUND($C34*I$10/$C$10,2) -> 5074.74 | K34: 22 | L34: 43820 | M34: =L34/12 -> 3651.6667 | N34: =ROUND(IF(AJ34<4000,L34,(L34*$AJ$10+4000*2%*12)/$AK$10),2) -> 43395.45 | O34: =ROUND($M34*O$10/$M$10,2) -> 5215.31 | P34: =ROUND($M34*P$10/$M$10,2) -> 5319.75 | Q34: =ROUND($M34*Q$10/$M$10,2) -> 5426.01 | R34: =ROUND($M34*R$10/$M$10,2) -> 5534.83 | S34: =ROUND($M34*S$10/$M$10,2) -> 5645.48 | T34: =ROUND($M34*T$10/$M$10,2) -> 5758.31 | U34: =ROUND($M34*U$10/$M$10,2) -> 5873.34 | V34: =ROUND($M34*V$10/$M$10,2) -> 5990.92 | ... AJ34: =ROUND($M34*AJ$10/$M$10,2) -> 7904.76 | AK34: =ROUND($N34/12*AK$10,2) -> 7984.76
A35: 23 | B35: =+B34 -> 42638.83 | C35: =ROUND(B35/12,2) -> 3553.24 | D35: =ROUND($C35*D$10/$C$10,2) -> 4596.47 | E35: =ROUND($C35*E$10/$C$10,2) -> 4688.5 | F35: =ROUND($C35*F$10/$C$10,2) -> 4782.31 | G35: =ROUND($C35*G$10/$C$10,2) -> 4877.89 | H35: =ROUND($C35*H$10/$C$10,2) -> 4975.25 | I35: =ROUND($C35*I$10/$C$10,2) -> 5074.74 | K35: 23 | L35: 44340 | M35: =L35/12 -> 3695 | N35: =ROUND(IF(AJ35<4000,L35,(L35*$AJ$10+4000*2%*12)/$AK$10),2) -> 43905.25 | O35: =ROUND($M35*O$10/$M$10,2) -> 5277.2 | P35: =ROUND($M35*P$10/$M$10,2) -> 5382.88 | Q35: =ROUND($M35*Q$10/$M$10,2) -> 5490.4 | R35: =ROUND($M35*R$10/$M$10,2) -> 5600.51 | S35: =ROUND($M35*S$10/$M$10,2) -> 5712.47 | T35: =ROUND($M35*T$10/$M$10,2) -> 5826.65 | U35: =ROUND($M35*U$10/$M$10,2) -> 5943.04 | V35: =ROUND($M35*V$10/$M$10,2) -> 6062.02 | ... AJ35: =ROUND($M35*AJ$10/$M$10,2) -> 7998.57 | AK35: =ROUND($N35/12*AK$10,2) -> 8078.57
A36: =+A35+1 -> 24 | B36: =+B35 -> 42638.83 | C36: =ROUND(B36/12,2) -> 3553.24 | D36: =ROUND($C36*D$10/$C$10,2) -> 4596.47 | E36: =ROUND($C36*E$10/$C$10,2) -> 4688.5 | F36: =ROUND($C36*F$10/$C$10,2) -> 4782.31 | G36: =ROUND($C36*G$10/$C$10,2) -> 4877.89 | H36: =ROUND($C36*H$10/$C$10,2) -> 4975.25 | I36: =ROUND($C36*I$10/$C$10,2) -> 5074.74 | K36: =+K35+1 -> 24 | L36: 44860 | M36: =L36/12 -> 3738.3333 | N36: =ROUND(IF(AJ36<4000,L36,(L36*$AJ$10+4000*2%*12)/$AK$10),2) -> 44415.06 | O36: =ROUND($M36*O$10/$M$10,2) -> 5339.09 | P36: =ROUND($M36*P$10/$M$10,2) -> 5446 | Q36: =ROUND($M36*Q$10/$M$10,2) -> 5554.79 | R36: =ROUND($M36*R$10/$M$10,2) -> 5666.19 | S36: =ROUND($M36*S$10/$M$10,2) -> 5779.46 | T36: =ROUND($M36*T$10/$M$10,2) -> 5894.98 | U36: =ROUND($M36*U$10/$M$10,2) -> 6012.74 | V36: =ROUND($M36*V$10/$M$10,2) -> 6133.11 | ... AJ36: =ROUND($M36*AJ$10/$M$10,2) -> 8092.37 | AK36: =ROUND($N36/12*AK$10,2) -> 8172.37
A37: =+A36+1 -> 25 | B37: =+B36 -> 42638.83 | C37: =ROUND(B37/12,2) -> 3553.24 | D37: =ROUND($C37*D$10/$C$10,2) -> 4596.47 | E37: =ROUND($C37*E$10/$C$10,2) -> 4688.5 | F37: =ROUND($C37*F$10/$C$10,2) -> 4782.31 | G37: =ROUND($C37*G$10/$C$10,2) -> 4877.89 | H37: =ROUND($C37*H$10/$C$10,2) -> 4975.25 | I37: =ROUND($C37*I$10/$C$10,2) -> 5074.74 | K37: =+K36+1 -> 25 | L37: 44860 | M37: =L37/12 -> 3738.3333 | N37: =ROUND(IF(AJ37<4000,L37,(L37*$AJ$10+4000*2%*12)/$AK$10),2) -> 44415.06 | O37: =ROUND($M37*O$10/$M$10,2) -> 5339.09 | P37: =ROUND($M37*P$10/$M$10,2) -> 5446 | Q37: =ROUND($M37*Q$10/$M$10,2) -> 5554.79 | R37: =ROUND($M37*R$10/$M$10,2) -> 5666.19 | S37: =ROUND($M37*S$10/$M$10,2) -> 5779.46 | T37: =ROUND($M37*T$10/$M$10,2) -> 5894.98 | U37: =ROUND($M37*U$10/$M$10,2) -> 6012.74 | V37: =ROUND($M37*V$10/$M$10,2) -> 6133.11 | ... AJ37: =ROUND($M37*AJ$10/$M$10,2) -> 8092.37 | AK37: =ROUND($N37/12*AK$10,2) -> 8172.37
K39: * Voor directeurs met meer dan 9 jaar ancienniteit als directeur in een geconventioneerde inrichting.
